BEGIN:VCALENDAR
VERSION:2.0
PRODID:-//https://bunkerhilltx.gov///NONSGML kigkonsult.se iCalcreator 2.10.15//
METHOD:PUBLISH
BEGIN:VEVENT
UID:20260423T114503UTC-9428gmoPkx@https://bunkerhilltx.gov/
DTSTAMP:20260423T114503Z
DESCRIPTION:We will be open for both Christmas Eve and New Years Eve at the
  regular days and times.\n________________________________________________
 _____________________\nPlease join us at the Memorial Villages Farmers Mar
 ket each Saturday. \nThe market is held from 9 am - 1 pm. \nWe look forwar
 d to seeing you there!\nPlease click here to go to the Memorial Villages F
 armers Market Website for more details. https://bunkerhilltx.gov/event/160
 2-villages-farmers-market
DTSTART;VALUE=DATE:20221224
LOCATION:First Congregational Church--Houston  (10840 Beinhorn Rd\, Houston
 \, TX 77024\, USA)
SUMMARY:Villages Farmers Market
URL:https://bunkerhilltx.gov/event/1602-villages-farmers-market
END:VEVENT
BEGIN:VEVENT
UID:20260423T114503UTC-94298KBIfM@https://bunkerhilltx.gov/
DTSTAMP:20260423T114503Z
DESCRIPTION:Court dockets are posted 48 hours prior to court date and are s
 ubject to change without notice.\nAll court appearances are via Zoom until
  further notice.&nbsp\; Please click the link below to schedule your court
  appearance if you have not done so already.&nbsp\; If you do not have a s
 mart device to participate via zoom\, there is a terminal available at Bun
 ker Hill City Hall lobby for your use.&nbsp\; Only one person at a time is
  allowed in the building to use the lobby terminal. If you arrive early\, 
 you may text the Court Administrator at 713-467-9762 for further instructi
 ons.\nLINK TO SCHEDULE COURT APPOINTMENTS AND ZOOM APPEARANCES\nPersons ch
 arged with an expired driver's license\, expired motor vehicle inspection 
 or expired motor vehicle registration\, that has not been expired more tha
 n sixty days and corrected it within twenty working days of the date of th
 e citation or date of your first appearance which ever comes first and hav
 e proof that it has been corrected\, may present proof prior to your court
  date at the clerks office or appear in court to see the judge for conside
 ration under the law for dismissal and if dismissed a $20.00 administrativ
 e fee will be paid to the court clerk. If you have been charged with failu
 re to provide proof of financial responsibility and you did have insurance
  on the day you received the citation\, show the proof to the court. If it
  is correct\, that case will be dismissed. There is no administrative fee 
 for financial responsibility.\n&nbsp\;\nPlease see&nbsp\;Municipal Court i
 nformation here\, or&nbsp\;search online here\n&nbsp\; https://bunkerhillt
 x.gov/event/1902-municipal-court
DTSTART:20221222T200000Z
DTEND:20221222T220000Z
LOCATION:City of Bunker Hill Village City Hall (11977 Memorial Drive\, Hous
 ton\, TX 77024\, USA)
SUMMARY:Municipal Court – Court Cancelled
URL:https://bunkerhilltx.gov/event/1902-municipal-court
END:VEVENT
BEGIN:VEVENT
UID:20260423T114503UTC-9430pPfXE3@https://bunkerhilltx.gov/
DTSTAMP:20260423T114503Z
DESCRIPTION:The City Council holds its regular meetings on the third Tuesda
 y of every month at 5:30 p.m\, unless otherwise noted. The agendas are pos
 ted on the website 72 hours prior to the meetings. Minutes of the meetings
  are also posted on the website after approval by the City Council.\nThe C
 ity Council approved the 2022 Meeting Calendar on January 18\, 2022.The De
 cember Meeting was cancelled.\n See notice of cancellation.\n&nbsp\;\nThe 
 City Council holds its regular meetings on the third Tuesday of every mont
 h at 5:30 p.m\, unless otherwise noted. The agendas are posted on the webs
 ite 72 hours prior to the meetings. Minutes of the meetings are also poste
 d on the website after approval by the City Council.\n&nbsp\; https://bunk
 erhilltx.gov/event/1915-city-council-meeting
DTSTART:20221220T233000Z
DTEND:20221221T013000Z
LOCATION:City of Bunker Hill Village City Hall (11977 Memorial Drive\, Hous
 ton\, TX 77024\, USA)
SUMMARY:City Council Meeting - Cancelled
URL:https://bunkerhilltx.gov/event/1915-city-council-meeting
END:VEVENT
BEGIN:VEVENT
UID:20260423T114503UTC-9431sZ5j6d@https://bunkerhilltx.gov/
DTSTAMP:20260423T114503Z
DESCRIPTION:We will have a special evening holiday market on Wednesday\, De
 cember 21\, from 3pm-7pm.\nWe will be open for both Christmas Eve and New 
 Years Eve at the regular days and times.\n&nbsp\;_________________________
 ________________________________________________________\nPlease join us a
 t the Memorial Villages Farmers Market each Saturday. \nThe market is held
  from 9 am - 1 pm. \nWe look forward to seeing you there!\nPlease click he
 re to go to the Memorial Villages Farmers Market Website for more details.
  https://bunkerhilltx.gov/event/1997-villages-farmers-market-special-eveni
 ng-holiday-market
DTSTART:20221221T210000Z
DTEND:20221222T010000Z
LOCATION:First Congregational Church--Houston  (10840 Beinhorn Rd\, Houston
 \, TX 77024\, USA)
SUMMARY: Villages Farmers Market - Special Evening Holiday Market 
URL:https://bunkerhilltx.gov/event/1997-villages-farmers-market-special-eve
 ning-holiday-market
END:VEVENT
BEGIN:VEVENT
UID:20260423T114503UTC-9432CUXJtr@https://bunkerhilltx.gov/
DTSTAMP:20260423T114503Z
DESCRIPTION: https://bunkerhilltx.gov/event/1998-freeze-trash-service-updat
 e-friday-december-23rd
DTSTART;VALUE=DATE:20221223
LOCATION:City of Bunker Hill Village City Hall (11977 Memorial Drive\, Hous
 ton\, TX 77024\, USA)
SUMMARY:FREEZE - TRASH SERVICE UPDATE - FRIDAY\, DECEMBER 23rd
URL:https://bunkerhilltx.gov/event/1998-freeze-trash-service-update-friday-
 december-23rd
END:VEVENT
END:VCALENDAR
