BEGIN:VCALENDAR
VERSION:2.0
PRODID:-//https://bunkerhilltx.gov///NONSGML kigkonsult.se iCalcreator 2.10.15//
METHOD:PUBLISH
BEGIN:VEVENT
UID:20260423T130851UTC-4988oNR5Zv@https://bunkerhilltx.gov/
DTSTAMP:20260423T130851Z
DESCRIPTION:The Memorial Villages Police Commission typically meets on the 
 second Monday of each month at the Police Station starting at 6:00 pm.&nbs
 p\; Meeting Agendas are posted 72 hours in advance of the meeting.&nbsp\; 
 Please check the Memorial Police Department website at http://www.mvpdtx.o
 rg/&nbsp\;to confirm the meeting date\, time and to access the agenda.\n&n
 bsp\; https://bunkerhilltx.gov/event/608-memorial-villages-police-commissi
 on-meeting
DTSTART:20221213T000000Z
DTEND:20221213T020000Z
LOCATION:Memorial Villages Police Department (11981 Memorial Drive\, Housto
 n\, TX 77024\, USA)
SUMMARY:Memorial Villages Police Commission Meeting
URL:https://bunkerhilltx.gov/event/608-memorial-villages-police-commission-
 meeting
END:VEVENT
BEGIN:VEVENT
UID:20260423T130851UTC-4990V80LPO@https://bunkerhilltx.gov/
DTSTAMP:20260423T130851Z
DESCRIPTION:Please join us at the Memorial Villages Farmers Market each Sat
 urday. \nThe market is held from 9 am - 1 pm. \nWe look forward to seeing 
 you there!\nPlease click here to go to the Memorial Villages Farmers Marke
 t Website for more details. https://bunkerhilltx.gov/event/1601-villages-f
 armers-market
DTSTART;VALUE=DATE:20221217
LOCATION:First Congregational Church--Houston  (10840 Beinhorn Rd\, Houston
 \, TX 77024\, USA)
SUMMARY:Villages Farmers Market
URL:https://bunkerhilltx.gov/event/1601-villages-farmers-market
END:VEVENT
BEGIN:VEVENT
UID:20260423T130851UTC-4992W0sELO@https://bunkerhilltx.gov/
DTSTAMP:20260423T130851Z
DESCRIPTION:Notice is hereby given that members of the City of Bunker Hill 
 Village City Council\, Board of Adjustments\, and Planning and Zoning Comm
 ission in numbers which may constitute a quorum\, may participate in a hol
 iday reception\, to be held at Jonathan's The Rub\, 12505 Memorial Dr #140
 \, Houston\, TX 77024\, Houston\, Texas on Tuesday\, December 13\, 2022 at
  5:30 p.m.&nbsp\; &nbsp\; &nbsp\; &nbsp\; &nbsp\; &nbsp\; &nbsp\; &nbsp\; 
 &nbsp\; &nbsp\; &nbsp\; &nbsp\; &nbsp\; &nbsp\; &nbsp\; &nbsp\; &nbsp\; &n
 bsp\; &nbsp\;\nThis meeting is purely a social meeting at which there will
  be no deliberation\, nor will there be any formal action taken.&nbsp\; Wh
 ile there may be incidental discussion of City business\, the City Council
 \, Board of Adjustments\, and Planning and Zoning Commission will not be d
 eliberating as a governing body of the City of Bunker Hill Village. Any di
 scussion of public business is purely incidental to the social meeting.\n&
 nbsp\;\nSee notice of possible quorum. https://bunkerhilltx.gov/event/1990
 -volunteer-appreciation-reception
DTSTART:20221213T233000Z
DTEND:20221214T013000Z
LOCATION:Jonathon's The Rub  (12505 Memorial Dr #140\, Houston\, TX 77024)
SUMMARY:Volunteer Appreciation Reception 
URL:https://bunkerhilltx.gov/event/1990-volunteer-appreciation-reception
END:VEVENT
END:VCALENDAR
