BEGIN:VCALENDAR
VERSION:2.0
PRODID:-//https://bunkerhilltx.gov///NONSGML kigkonsult.se iCalcreator 2.10.15//
METHOD:PUBLISH
BEGIN:VEVENT
UID:20260423T175025UTC-0231WLuhTA@https://bunkerhilltx.gov/
DTSTAMP:20260423T175025Z
DESCRIPTION:Please join us at the Memorial Villages Farmers Market each Sat
 urday. \nThe market is held from 9 am - 1 pm. \nWe look forward to seeing 
 you there!\nPlease click here to go to the Memorial Villages Farmers Marke
 t Website for more details. https://bunkerhilltx.gov/event/1598-villages-f
 armers-market
DTSTART;VALUE=DATE:20221126
LOCATION:First Congregational Church--Houston  (10840 Beinhorn Rd\, Houston
 \, TX 77024\, USA)
SUMMARY:Villages Farmers Market
URL:https://bunkerhilltx.gov/event/1598-villages-farmers-market
END:VEVENT
BEGIN:VEVENT
UID:20260423T175025UTC-0233GdKvZz@https://bunkerhilltx.gov/
DTSTAMP:20260423T175025Z
DESCRIPTION:City Hall will be closed&nbsp\;at noon on Wednesday\, November 
 23\,&nbsp\;2022 and Thursday and Friday\, November 24 and 25&nbsp\; for th
 e Thanksgiving Holiday.\nThe office will re-open on Monday\, November 28\,
  2022 at 7:00 a.m.\nFor any emergencies\, you can call the City Hall numbe
 r at 713-467-9762 and select '9' to be connected to the Memorial Villages 
 Police Department.&nbsp\; They will dispatch our staff.\nHave a nice holid
 ay! https://bunkerhilltx.gov/event/1946-happy-thanksgiving-city-hall-close
 s-at-noon
DTSTART;VALUE=DATE:20221123
LOCATION:City of Bunker Hill Village City Hall (11977 Memorial Drive\, Hous
 ton\, TX 77024\, USA)
SUMMARY:Happy Thanksgiving!   City Hall Closes at Noon 
URL:https://bunkerhilltx.gov/event/1946-happy-thanksgiving-city-hall-closes
 -at-noon
END:VEVENT
BEGIN:VEVENT
UID:20260423T175025UTC-0234F3kluu@https://bunkerhilltx.gov/
DTSTAMP:20260423T175025Z
DESCRIPTION:City Hall will be closed&nbsp\;at noon on Wednesday\, November 
 23\, 2022&nbsp\; and Thursday and Friday\, November 24 and 25&nbsp\; for t
 he Thanksgiving Holiday.\nNO TRASH Services on Thursday.&nbsp\; Normal Ser
 vices Wednesday and Friday.\nThe office will re-open on Monday\, November 
 28\, 2022 at 7:00 a.m.\nFor any emergencies\, you can call the City Hall n
 umber at 713-467-9762 and select '9' to be connected to the Memorial Villa
 ges Police Department.&nbsp\; They will dispatch our staff.\nHave a nice h
 oliday! https://bunkerhilltx.gov/event/1947-city-hall-closed-in-observance
 -of-the-thanksgiving-holiday
DTSTART;VALUE=DATE:20221125
LOCATION:City of Bunker Hill Village City Hall (11977 Memorial Drive\, Hous
 ton\, TX 77024\, USA)
SUMMARY:City Hall Closed in Observance of the Thanksgiving Holiday
URL:https://bunkerhilltx.gov/event/1947-city-hall-closed-in-observance-of-t
 he-thanksgiving-holiday
END:VEVENT
BEGIN:VEVENT
UID:20260423T175025UTC-0236khasG2@https://bunkerhilltx.gov/
DTSTAMP:20260423T175025Z
DESCRIPTION:City Hall will be closed&nbsp\;at noon on Wednesday\, November 
 23\,&nbsp\;2022 and Thursday and Friday\, November 24 and 25&nbsp\; for th
 e Thanksgiving Holiday.\nThe office will re-open on Monday\, November 28\,
  2022 at 7:00 a.m.\nFor any emergencies\, you can call the City Hall numbe
 r at 713-467-9762 and select '9' to be connected to the Memorial Villages 
 Police Department.&nbsp\; They will dispatch our staff.\nThere are no tras
 h services on Thanksgiving Day - Thursday's Trash will be collected on Mon
 day with the normal route.\nHave a nice holiday! https://bunkerhilltx.gov/
 event/1948-happy-thanksgiving-day-city-hall-closed-no-trash-services-on-th
 ursday
DTSTART;VALUE=DATE:20221124
LOCATION:City of Bunker Hill Village City Hall (11977 Memorial Drive\, Hous
 ton\, TX 77024\, USA)
SUMMARY:Happy Thanksgiving Day!  City Hall Closed\; No Trash Services on Th
 ursday
URL:https://bunkerhilltx.gov/event/1948-happy-thanksgiving-day-city-hall-cl
 osed-no-trash-services-on-thursday
END:VEVENT
END:VCALENDAR
