BEGIN:VCALENDAR
VERSION:2.0
PRODID:-//https://bunkerhilltx.gov///NONSGML kigkonsult.se iCalcreator 2.10.15//
METHOD:PUBLISH
BEGIN:VEVENT
UID:20260423T191510UTC-3674dCkCVL@https://bunkerhilltx.gov/
DTSTAMP:20260423T191510Z
DESCRIPTION:The Memorial Villages Police Commission typically meets on the 
 second Monday of each month at the Police Station starting at 6:00 pm.&nbs
 p\; Meeting Agendas are posted 72 hours in advance of the meeting.&nbsp\; 
 Please check the Memorial Police Department website at http://www.mvpdtx.o
 rg/&nbsp\;to confirm the meeting date\, time and to access the agenda.\n&n
 bsp\; https://bunkerhilltx.gov/event/607-memorial-villages-police-commissi
 on-meeting
DTSTART:20221115T000000Z
DTEND:20221115T020000Z
LOCATION:Memorial Villages Police Department (11981 Memorial Drive\, Housto
 n\, TX 77024\, USA)
SUMMARY:Memorial Villages Police Commission Meeting
URL:https://bunkerhilltx.gov/event/607-memorial-villages-police-commission-
 meeting
END:VEVENT
BEGIN:VEVENT
UID:20260423T191510UTC-3675VRP56m@https://bunkerhilltx.gov/
DTSTAMP:20260423T191510Z
DESCRIPTION:Please join us at the Memorial Villages Farmers Market each Sat
 urday. \nThe market is held from 9 am - 1 pm. \nWe look forward to seeing 
 you there!\nPlease click here to go to the Memorial Villages Farmers Marke
 t Website for more details. https://bunkerhilltx.gov/event/1597-villages-f
 armers-market
DTSTART;VALUE=DATE:20221119
LOCATION:First Congregational Church--Houston  (10840 Beinhorn Rd\, Houston
 \, TX 77024\, USA)
SUMMARY:Villages Farmers Market
URL:https://bunkerhilltx.gov/event/1597-villages-farmers-market
END:VEVENT
BEGIN:VEVENT
UID:20260423T191510UTC-3676SXuPHR@https://bunkerhilltx.gov/
DTSTAMP:20260423T191510Z
DESCRIPTION:Court dockets are posted 48 hours prior to court date and are s
 ubject to change without notice.\nAll court appearances are via Zoom until
  further notice.&nbsp\; Please click the link below to schedule your court
  appearance if you have not done so already.&nbsp\; If you do not have a s
 mart device to participate via zoom\, there is a terminal available at Bun
 ker Hill City Hall lobby for your use.&nbsp\; Only one person at a time is
  allowed in the building to use the lobby terminal. If you arrive early\, 
 you may text the Court Administrator at 713-467-9762 for further instructi
 ons.\nDocket.morning\nDocket.afternoon\nLINK TO SCHEDULE COURT APPOINTMENT
 S AND ZOOM APPEARANCES\nPersons charged with an expired driver's license\,
  expired motor vehicle inspection or expired motor vehicle registration\, 
 that has not been expired more than sixty days and corrected it within twe
 nty working days of the date of the citation or date of your first appeara
 nce which ever comes first and have proof that it has been corrected\, may
  present proof prior to your court date at the clerks office or appear in 
 court to see the judge for consideration under the law for dismissal and i
 f dismissed a $20.00 administrative fee will be paid to the court clerk. I
 f you have been charged with failure to provide proof of financial respons
 ibility and you did have insurance on the day you received the citation\, 
 show the proof to the court. If it is correct\, that case will be dismisse
 d. There is no administrative fee for financial responsibility.\n&nbsp\;\n
 Please see&nbsp\;Municipal Court information here\, or&nbsp\;search online
  here\n&nbsp\; https://bunkerhilltx.gov/event/1901-municipal-court
DTSTART:20221117T200000Z
DTEND:20221117T220000Z
LOCATION:City of Bunker Hill Village City Hall (11977 Memorial Drive\, Hous
 ton\, TX 77024\, USA)
SUMMARY:Municipal Court 
URL:https://bunkerhilltx.gov/event/1901-municipal-court
END:VEVENT
BEGIN:VEVENT
UID:20260423T191510UTC-3677CNi2RP@https://bunkerhilltx.gov/
DTSTAMP:20260423T191510Z
DESCRIPTION:NOTICE OF MEETING BY TELEPHONE AND VIDEO CONFERENCE:\nIn accord
 ance with Texas Government Code\, Sec. 551.127\, on a regular\, non-emerge
 ncy basis\, Councilmembers may attend and participate in a meeting remotel
 y by video conference.&nbsp\; Should such attendance transpire\, a quorum 
 of the Council will be physically present at the location noted&nbsp\; on 
 this agenda.\nPlease note this Meeting will begin at 4:30 with a Closed Ex
 ecutive Session&nbsp\;\nCouncil Agenda&nbsp\;\nAgenda Packet:\nItems&nbsp\
 ;IV - XIII\nItems XIV - XXII\nOctober Investment Report&nbsp\;\nConsent Ag
 enda\n&nbsp\;\nThe public will be able to observe and participate in the m
 eeting as follows:\nJoin Zoom Meeting\nhttps://us06web.zoom.us/j/875516995
 90?pwd=MXFNWFhCMXRYaVBtU3NJUC9Gdjc1UT09\nMeeting ID: 875 5169 9590\nPassco
 de: 504176\nDial by your location\n&nbsp\;&nbsp\;&nbsp\;&nbsp\;&nbsp\;&nbs
 p\;&nbsp\; +1 346 248 7799 US (Houston)\nFind your local number: https://u
 s06web.zoom.us/u/kkAHoUEeQ\n&nbsp\;\nThe public will be permitted to offer
  public comments by video conference as provided by the agenda and as perm
 itted by the presiding officer during the meeting.&nbsp\; A recording of t
 he meeting will be made\, and will be available to the public in accordanc
 e with the Open Meetings Act upon written request.\n&nbsp\; https://bunker
 hilltx.gov/event/1914-city-council-meeting
DTSTART:20221115T223000Z
DTEND:20221116T023000Z
LOCATION:City of Bunker Hill Village City Hall (11977 Memorial Drive\, Hous
 ton\, TX 77024\, USA)
SUMMARY:City Council Meeting
URL:https://bunkerhilltx.gov/event/1914-city-council-meeting
END:VEVENT
END:VCALENDAR
