BEGIN:VCALENDAR
VERSION:2.0
PRODID:-//https://bunkerhilltx.gov///NONSGML kigkonsult.se iCalcreator 2.10.15//
METHOD:PUBLISH
BEGIN:VEVENT
UID:20260423T204126UTC-2554k2KdpC@https://bunkerhilltx.gov/
DTSTAMP:20260423T204126Z
DESCRIPTION:Please join us at the Memorial Villages Farmers Market each Sat
 urday. \nThe market is held from 9 am - 1 pm. \nWe look forward to seeing 
 you there!\nPlease click here to go to the Memorial Villages Farmers Marke
 t Website for more details. https://bunkerhilltx.gov/event/1596-villages-f
 armers-market
DTSTART;VALUE=DATE:20221112
LOCATION:First Congregational Church--Houston  (10840 Beinhorn Rd\, Houston
 \, TX 77024\, USA)
SUMMARY:Villages Farmers Market
URL:https://bunkerhilltx.gov/event/1596-villages-farmers-market
END:VEVENT
BEGIN:VEVENT
UID:20260423T204126UTC-2555aJX0Bl@https://bunkerhilltx.gov/
DTSTAMP:20260423T204126Z
DESCRIPTION:&nbsp\;\nPlease see Notice of Possible Quorum for the City Coun
 cil. https://bunkerhilltx.gov/event/1989-city-council-notice-of-possible-q
 uorum
DTSTART:20221108T140000Z
DTEND:20221108T160000Z
LOCATION:City of Bunker Hill Village City Hall (11977 Memorial Drive\, Hous
 ton\, TX 77024\, USA)
SUMMARY:City Council - Notice of Possible Quorum
URL:https://bunkerhilltx.gov/event/1989-city-council-notice-of-possible-quo
 rum
END:VEVENT
END:VCALENDAR
