BEGIN:VCALENDAR
VERSION:2.0
PRODID:-//https://bunkerhilltx.gov///NONSGML kigkonsult.se iCalcreator 2.10.15//
METHOD:PUBLISH
BEGIN:VEVENT
UID:20260424T012042UTC-4688aXNxhG@https://bunkerhilltx.gov/
DTSTAMP:20260424T012042Z
DESCRIPTION:Please join us at the Memorial Villages Farmers Market each Sat
 urday. \nThe market is held from 9 am - 1 pm. \nWe look forward to seeing 
 you there!\nPlease click here to go to the Memorial Villages Farmers Marke
 t Website for more details. https://bunkerhilltx.gov/event/1593-villages-f
 armers-market
DTSTART;VALUE=DATE:20221022
LOCATION:First Congregational Church--Houston  (10840 Beinhorn Rd\, Houston
 \, TX 77024\, USA)
SUMMARY:Villages Farmers Market
URL:https://bunkerhilltx.gov/event/1593-villages-farmers-market
END:VEVENT
BEGIN:VEVENT
UID:20260424T012042UTC-46900tUh0V@https://bunkerhilltx.gov/
DTSTAMP:20260424T012042Z
DESCRIPTION:&nbsp\;\nThe Memorial Villages are once again hosting a recycli
 ng event for re-use items and Rx Disposal.&nbsp\; Shredding services will 
 be onsite and the electronic vendor will also be available this year.\nJoi
 n us on Saturday\, October 22 from 8:00 am until 12:00 pm at Hedwig Villag
 e City Hall -&nbsp\;955 Piney Point Road.&nbsp\; Come early to receive a t
 ree!&nbsp\; Trees for Houston will be providing trees for residents.\nClic
 k Here to see what will and will not be accepted.\nThank you!! https://bun
 kerhilltx.gov/event/1876-annual-memorial-villages-recycling-event
DTSTART:20221022T130000Z
DTEND:20221022T170000Z
LOCATION:Hedwig Village City Hall  (955 Piney Point Road)
SUMMARY:Annual Memorial Villages Recycling Event
URL:https://bunkerhilltx.gov/event/1876-annual-memorial-villages-recycling-
 event
END:VEVENT
BEGIN:VEVENT
UID:20260424T012042UTC-4691jHkRTt@https://bunkerhilltx.gov/
DTSTAMP:20260424T012042Z
DESCRIPTION:NOTICE OF MEETING BY TELEPHONE AND VIDEO CONFERENCE:\nIn accord
 ance with Texas Government Code\, Sec. 551.127\, on a regular\, non-emerge
 ncy basis\, Councilmembers may attend and participate in a meeting remotel
 y by video conference.&nbsp\; Should such attendance transpire\, a quorum 
 of the Council will be physically present at the location noted&nbsp\; on 
 this agenda.\nPlease note this Meeting will begin at 5:30 with a Closed Ex
 ecutive Session&nbsp\;\nCouncil Agenda&nbsp\;\nAgenda Packet&nbsp\;\n&nbsp
 \;\nThe public will be able to observe and participate in the meeting as f
 ollows:\nJoin Zoom Meeting\nhttps://us06web.zoom.us/j/85927735045?pwd=WDBr
 c0xtbHBiUXRueE9lUzdWdHg5dz09\n&nbsp\;Meeting ID: 859 2773 5045\nPasscode: 
 415305\nDial by your location\n&nbsp\;&nbsp\;&nbsp\;&nbsp\;&nbsp\;&nbsp\;&
 nbsp\; +1 346 248 7799 US (Houston)\n&nbsp\;\nThe public will be permitted
  to offer public comments by video conference as provided by the agenda an
 d as permitted by the presiding officer during the meeting.&nbsp\; A recor
 ding of the meeting will be made\, and will be available to the public in 
 accordance with the Open Meetings Act upon written request.\n&nbsp\; https
 ://bunkerhilltx.gov/event/1913-city-council-meeting
DTSTART:20221018T223000Z
DTEND:20221019T003000Z
LOCATION:City of Bunker Hill Village City Hall (11977 Memorial Drive\, Hous
 ton\, TX 77024\, USA)
SUMMARY:City Council Meeting
URL:https://bunkerhilltx.gov/event/1913-city-council-meeting
END:VEVENT
BEGIN:VEVENT
UID:20260424T012042UTC-46949pu0Ut@https://bunkerhilltx.gov/
DTSTAMP:20260424T012042Z
DESCRIPTION:The Mayor\, City Council\, Staff and Committees are hosting an 
 Open House at City Hall on Wednesday\, October 19\, 2022 from 5:00 p.m. to
  7:00 p.m.\nThe event will feature the work of our Committees and our Publ
 ic Safety Departments.\n&nbsp\;\nCity Committees Include:\n\nPublic Safety
 \nDrainage\nTechnology\nBeautification\n\n&nbsp\;\nJoin us to learn more a
 nd see the MVPD Drone in action!!!\n&nbsp\;\n&nbsp\;Notice of Possible Quo
 rum https://bunkerhilltx.gov/event/1983-city-hall-open-house
DTSTART:20221019T220000Z
DTEND:20221020T000000Z
LOCATION:Bunker Hill City Hall  (11977 Memorial Dr\, Houston\, TX 77024\, U
 SA)
SUMMARY:City Hall Open House 
URL:https://bunkerhilltx.gov/event/1983-city-hall-open-house
END:VEVENT
END:VCALENDAR
