BEGIN:VCALENDAR
VERSION:2.0
PRODID:-//https://bunkerhilltx.gov///NONSGML kigkonsult.se iCalcreator 2.10.15//
METHOD:PUBLISH
BEGIN:VEVENT
UID:20260424T025620UTC-2331LdTpUO@https://bunkerhilltx.gov/
DTSTAMP:20260424T025620Z
DESCRIPTION:The Memorial Villages Police Commission typically meets on the 
 second Monday of each month at the Police Station starting at 6:00 pm.&nbs
 p\; Meeting Agendas are posted 72 hours in advance of the meeting.&nbsp\; 
 Please check the Memorial Police Department website at http://www.mvpdtx.o
 rg/&nbsp\;to confirm the meeting date\, time and to access the agenda.\n&n
 bsp\; https://bunkerhilltx.gov/event/606-memorial-villages-police-commissi
 on-meeting
DTSTART:20221010T230000Z
DTEND:20221011T010000Z
LOCATION:Memorial Villages Police Department (11981 Memorial Drive\, Housto
 n\, TX 77024\, USA)
SUMMARY:Memorial Villages Police Commission Meeting
URL:https://bunkerhilltx.gov/event/606-memorial-villages-police-commission-
 meeting
END:VEVENT
BEGIN:VEVENT
UID:20260424T025620UTC-2332ebBwtc@https://bunkerhilltx.gov/
DTSTAMP:20260424T025620Z
DESCRIPTION:Please join us at the Memorial Villages Farmers Market each Sat
 urday. \nThe market is held from 9 am - 1 pm. \nWe look forward to seeing 
 you there!\nPlease click here to go to the Memorial Villages Farmers Marke
 t Website for more details. https://bunkerhilltx.gov/event/1592-villages-f
 armers-market
DTSTART;VALUE=DATE:20221015
LOCATION:First Congregational Church--Houston  (10840 Beinhorn Rd\, Houston
 \, TX 77024\, USA)
SUMMARY:Villages Farmers Market
URL:https://bunkerhilltx.gov/event/1592-villages-farmers-market
END:VEVENT
BEGIN:VEVENT
UID:20260424T025620UTC-2333bafuPz@https://bunkerhilltx.gov/
DTSTAMP:20260424T025620Z
DESCRIPTION:THE ZONING BOARD OF ADJUSTMENT OF THE CITY OF BUNKER HILL VILLA
 GE\, TEXAS\, WILL MEET ON TUESDAY\, OCTOBER 11\, 2022 AT 5:00 P.M. &nbsp\;
 BUNKER HILL VILLAGE CITY HALL COUNCIL CHAMBERS\, 11977 MEMORIAL DRIVE\, FO
 R THE PURPOSE OF DISCUSSION AND POSSIBLE ACTION ON THE FOLLOWING:\n&nbsp\;
 The Public Hearing will be held at 5:00 p.m.\n&nbsp\;Click Here to view th
 e Meeting Agenda\nThe following information is provided for the Variance R
 equest for 330 Folwell:\nAgenda Summary\nApplication\nEmail Support\nPropo
 sed Plans\nNotification to Residents within 200 feet\nOther Item on the Ag
 enda - Minutes from June 16\, 2021&nbsp\;\n&nbsp\;\nNOTICE OF MEETING BY T
 ELEPHONE AND VIDEO CONFERENCE:\nIn accordance with Texas Government Code\,
  Sec. 551.127\, on a regular\, non-emergency basis\, Board Members may att
 end and participate in a meeting remotely by video conference.&nbsp\; Shou
 ld such attendance transpire\, a quorum of the Board will be physically pr
 esent at the location noted above on this agenda.\nThe public will be able
  to observe and participate in the meeting as follows:\nJoin Zoom Meeting
 \nhttps://us06web.zoom.us/j/84533503813?pwd=YTF2NGovUXNLcDhTZnJHY1ZoZzBxZz
 09\nMeeting ID: 845 3350 3813\nPasscode: 495207\nDial by your location&nbs
 p\; &nbsp\;\n+1 346 248 7799 US (Houston)\nThe public will be permitted to
  offer public comments by video conference as provided by the agenda and a
 s permitted by the presiding officer during the meeting.&nbsp\; A recordin
 g of the meeting will be made and will be available to the public in accor
 dance with the Open Meetings Act upon written request. https://bunkerhillt
 x.gov/event/1986-zoning-board-of-adjustment-meeting
DTSTART:20221011T220000Z
DTEND:20221011T233000Z
LOCATION:City of Bunker Hill Village City Hall (11977 Memorial Drive\, Hous
 ton\, TX 77024\, USA)
SUMMARY:Zoning Board of Adjustment Meeting 
URL:https://bunkerhilltx.gov/event/1986-zoning-board-of-adjustment-meeting
END:VEVENT
END:VCALENDAR
