BEGIN:VCALENDAR
VERSION:2.0
PRODID:-//https://bunkerhilltx.gov///NONSGML kigkonsult.se iCalcreator 2.10.15//
METHOD:PUBLISH
BEGIN:VEVENT
UID:20260424T044546UTC-4146jjpc0g@https://bunkerhilltx.gov/
DTSTAMP:20260424T044546Z
DESCRIPTION:Please join us at the Memorial Villages Farmers Market each Sat
 urday. \nThe market is held from 9 am - 1 pm. \nWe look forward to seeing 
 you there!\nPlease click here to go to the Memorial Villages Farmers Marke
 t Website for more details. https://bunkerhilltx.gov/event/1591-villages-f
 armers-market
DTSTART;VALUE=DATE:20221008
LOCATION:First Congregational Church--Houston  (10840 Beinhorn Rd\, Houston
 \, TX 77024\, USA)
SUMMARY:Villages Farmers Market
URL:https://bunkerhilltx.gov/event/1591-villages-farmers-market
END:VEVENT
BEGIN:VEVENT
UID:20260424T044546UTC-4147LwmKrF@https://bunkerhilltx.gov/
DTSTAMP:20260424T044546Z
DESCRIPTION:From the Desk of Chief Ray Schultz:\nOn Tuesday evening\, Octob
 er 4\, 2022\, from 6 pm – 8 pm we will be holding our National Night Out E
 vent for 2022. National Night Out is the one night a year where we ask for
  neighbors to get together within your own neighborhoods to meet new resid
 ents and to talk about your community and of course safety and crime preve
 ntion. Neighborhoods\, blocks\, streets\, or cul-de-sacs are asked to orga
 nize events or get-togethers where neighbors can come and get reacquainted
 \, as well as meet new area residents. Events can range from organized pot
 -luck dinners to neighbors just gathering in a driveway to exchange phone 
 numbers and talk to each other about neighborhood issues. Of course\, we w
 ould like to be a part of your neighborhood National Night Out gathering i
 f you would like. If you are organizing an event and would like for an off
 icer to stop by\, please register your event with Officer Larry Boggus at 
 lboggus@mvpdtx.org Officer Boggus will be assigning officers and command s
 taff to stop by as many events as possible. Both my staff and I will be ou
 t as well stopping by both registered and non-registered gatherings.\nChie
 f Ray Schultz rschultz@mvpdtx.org https://bunkerhilltx.gov/event/1987-nati
 onal-night-out
DTSTART:20221004T230000Z
DTEND:20221005T010000Z
LOCATION:Bunker Hill Village (11977 Memorial Drive)
SUMMARY:National Night Out
URL:https://bunkerhilltx.gov/event/1987-national-night-out
END:VEVENT
BEGIN:VEVENT
UID:20260424T044546UTC-4148Aam4H9@https://bunkerhilltx.gov/
DTSTAMP:20260424T044546Z
DESCRIPTION:Please join the Mayor and City Council in expressing appreciati
 on to our teachers and display a light blue ribbon outside your homes or b
 usinesses as a symbol of support for our Spring Branch Independent School 
 District Educators.&nbsp\; We are so proud and appreciative of our excelle
 nt elementary schools:&nbsp\; Bunker Hill and Frostwood and our wonderful 
 teachers!! https://bunkerhilltx.gov/event/1988-world-teacher-day
DTSTART;VALUE=DATE:20221005
LOCATION:Bunker Hill Village (11977 Memorial Drive)
SUMMARY:World Teacher Day
URL:https://bunkerhilltx.gov/event/1988-world-teacher-day
END:VEVENT
END:VCALENDAR
