BEGIN:VCALENDAR
VERSION:2.0
PRODID:-//https://bunkerhilltx.gov///NONSGML kigkonsult.se iCalcreator 2.10.15//
METHOD:PUBLISH
BEGIN:VEVENT
UID:20260420T095841UTC-5973VuRDiT@https://bunkerhilltx.gov/
DTSTAMP:20260420T095841Z
DESCRIPTION:For Public Works related emergencies outside of regular busines
 s hours\, contact Memorial Villages Police Department Dispatch at 713-365-
 3700.\n&nbsp\; https://bunkerhilltx.gov/event/2104-city-hall-closed-for-la
 bor-day-holiday
DTSTART;VALUE=DATE:20240902
LOCATION:City of Bunker Hill Village City Hall (11977 Memorial Drive\, Hous
 ton\, TX 77024\, USA)
SUMMARY:City Hall Closed in Observance of Labor Day 
URL:https://bunkerhilltx.gov/event/2104-city-hall-closed-for-labor-day-holi
 day
END:VEVENT
END:VCALENDAR
