BEGIN:VCALENDAR
VERSION:2.0
PRODID:-//https://bunkerhilltx.gov///NONSGML kigkonsult.se iCalcreator 2.10.15//
METHOD:PUBLISH
BEGIN:VEVENT
UID:20260420T111126UTC-1355KxtIRO@https://bunkerhilltx.gov/
DTSTAMP:20260420T111126Z
DESCRIPTION:The&nbsp\; Village Fire Commission typically meets&nbsp\;on the
  fourth Wednesday&nbsp\;of each month at the Fire Station starting at 6:00
  pm.&nbsp\; Meeting Agendas are posted 72 hours in advance of the meeting.
 &nbsp\; Please check the&nbsp\;Village Fire&nbsp\;Department website at&nb
 sp\;http://villagefire.org/&nbsp\;&nbsp\;to confirm meeting date\, time an
 d to access the agenda. https://bunkerhilltx.gov/event/520-village-fire-co
 mmission-meeting
DTSTART:20240828T230000Z
DTEND:20240829T010000Z
LOCATION:Village Fire Department  (901 Corbindale Road\, Houston\, TX 77024
 \, USA)
SUMMARY:Village Fire Commission Meeting
URL:https://bunkerhilltx.gov/event/520-village-fire-commission-meeting
END:VEVENT
BEGIN:VEVENT
UID:20260420T111126UTC-1356UcVSew@https://bunkerhilltx.gov/
DTSTAMP:20260420T111126Z
DESCRIPTION:The Planning and Zoning Commission meets on the fourth Tuesday 
 of every month at 11:30 a.m. unless otherwise noted. Agendas are posted 72
  hours prior to the meetings. Minutes of the meetings are available follow
 ing approval.&nbsp\;\nAgenda&nbsp\;\n-------------------------------------
 --------------------------------------------------------------------------
 ---------------------------------\nJoin Zoom Meeting\nhttps://us06web.zoom
 .us/j/82664118805?pwd=kcpP5A8Nd15LS425GmqgLaaDU759af.1\nMeeting ID:&nbsp\;
 826 6411 8805\nPasscode:&nbsp\;895174\nDial by your location:&nbsp\;+1 346
  248 7799 US (Houston)\nThe public will be permitted to offer public comme
 nts by video conference as provided by the agenda and as permitted by the 
 presiding officer during the meeting. A recording of the meeting will be m
 ade and will be available to the public in accordance with the Open Meetin
 gs Act upon written request.\n\n\n&nbsp\; https://bunkerhilltx.gov/event/2
 117-planning-zoning-commission-meeting
DTSTART:20240827T163000Z
DTEND:20240827T183000Z
LOCATION:City of Bunker Hill Village City Hall (11977 Memorial Drive\, Hous
 ton\, TX 77024\, USA)
SUMMARY:Planning & Zoning Commission Meeting 
URL:https://bunkerhilltx.gov/event/2117-planning-zoning-commission-meeting
END:VEVENT
BEGIN:VEVENT
UID:20260420T111126UTC-13575TteoG@https://bunkerhilltx.gov/
DTSTAMP:20260420T111126Z
DESCRIPTION:Agendas are posted 72 hours prior to the meetings. Minutes of t
 he meetings are available following approval.&nbsp\;\nAgenda\n------------
 --------------------------------------------------------------------------
 ----------------------------------------------------------\nJoin Zoom Meet
 ing\nhttps://us06web.zoom.us/j/85856949173?pwd=IfZNZMzkZoZUQxb4Xvg1MHSVpJ9
 vg8.1\nMeeting ID:&nbsp\;858 5694 9173\nPasscode:&nbsp\;487813\nDial by yo
 ur location:&nbsp\;+1 346 248 7799 US (Houston)\nThe public will be permit
 ted to offer public comments by video conference as provided by the agenda
  and as permitted by the presiding officer during the meeting. A recording
  of the meeting will be made and will be available to the public in accord
 ance with the Open Meetings Act upon written request.\n\n\n&nbsp\; https:/
 /bunkerhilltx.gov/event/2152-zoning-board-of-adjustment-meeting
DTSTART:20240828T220000Z
DTEND:20240829T000000Z
LOCATION:City of Bunker Hill Village City Hall (11977 Memorial Drive\, Hous
 ton\, TX 77024\, USA)
SUMMARY:Zoning Board of Adjustment Meeting 
URL:https://bunkerhilltx.gov/event/2152-zoning-board-of-adjustment-meeting
END:VEVENT
END:VCALENDAR
