BEGIN:VCALENDAR
VERSION:2.0
PRODID:-//https://bunkerhilltx.gov///NONSGML kigkonsult.se iCalcreator 2.10.15//
METHOD:PUBLISH
BEGIN:VEVENT
UID:20260420T123752UTC-6238Akb6GF@https://bunkerhilltx.gov/
DTSTAMP:20260420T123752Z
DESCRIPTION:The City Council holds its regular meetings on the third Tuesda
 y of every month at 5:00 p.m\, unless otherwise noted. The agendas are pos
 ted on the website 72 hours prior to the meetings. Minutes of the meetings
  are also posted on the website after approval by the City Council.\nAgend
 a\n-----------------------------------------------------------------------
 -------------------------------------------------------------------------
 \nJoin Zoom Meeting\nhttps://us06web.zoom.us/j/85937490568?pwd=rCJCaskXM6B
 2DFd27KuKv3mZa78E3V.1\nMeeting ID:&nbsp\;859 3749 0568\nPasscode:&nbsp\;43
 4053\nDial by your location:&nbsp\;+1 346 248 7799 US (Houston)\nThe publi
 c will be permitted to offer public comments by video conference as provid
 ed by the agenda and as permitted by the presiding officer during the meet
 ing. A recording of the meeting will be made and will be available to the 
 public in accordance with the Open Meetings Act upon written request.\n&nb
 sp\;\n&nbsp\; https://bunkerhilltx.gov/event/2080-city-council-meeting
DTSTART:20240820T220000Z
DTEND:20240821T010000Z
LOCATION:City of Bunker Hill Village City Hall (11977 Memorial Drive\, Hous
 ton\, TX 77024\, USA)
SUMMARY:City Council Meeting
URL:https://bunkerhilltx.gov/event/2080-city-council-meeting
END:VEVENT
BEGIN:VEVENT
UID:20260420T123752UTC-6240tuxRDN@https://bunkerhilltx.gov/
DTSTAMP:20260420T123752Z
DESCRIPTION:&nbsp\;\n&nbsp\;\n&nbsp\;\n&nbsp\; https://bunkerhilltx.gov/eve
 nt/2093-municipal-court
DTSTART:20240822T150000Z
DTEND:20240822T210000Z
LOCATION:City of Bunker Hill Village City Hall (11977 Memorial Drive\, Hous
 ton\, TX 77024\, USA)
SUMMARY:Municipal Court 
URL:https://bunkerhilltx.gov/event/2093-municipal-court
END:VEVENT
END:VCALENDAR
