BEGIN:VCALENDAR
VERSION:2.0
PRODID:-//https://bunkerhilltx.gov///NONSGML kigkonsult.se iCalcreator 2.10.15//
METHOD:PUBLISH
BEGIN:VEVENT
UID:20260420T175952UTC-1011DBKgUv@https://bunkerhilltx.gov/
DTSTAMP:20260420T175952Z
DESCRIPTION:The&nbsp\; Village Fire Commission typically meets&nbsp\;on the
  fourth Wednesday&nbsp\;of each month at the Fire Station starting at 6:00
  pm.&nbsp\; Meeting Agendas are posted 72 hours in advance of the meeting.
 &nbsp\; Please check the&nbsp\;Village Fire&nbsp\;Department website at&nb
 sp\;http://villagefire.org/&nbsp\;&nbsp\;to confirm meeting date\, time an
 d to access the agenda. https://bunkerhilltx.gov/event/519-village-fire-co
 mmission-meeting
DTSTART:20240724T230000Z
DTEND:20240725T010000Z
LOCATION:Village Fire Department  (901 Corbindale Road\, Houston\, TX 77024
 \, USA)
SUMMARY:Village Fire Commission Meeting
URL:https://bunkerhilltx.gov/event/519-village-fire-commission-meeting
END:VEVENT
BEGIN:VEVENT
UID:20260420T175952UTC-1012TFUfRc@https://bunkerhilltx.gov/
DTSTAMP:20260420T175952Z
DESCRIPTION:&nbsp\;\n&nbsp\;\n&nbsp\;\n&nbsp\; https://bunkerhilltx.gov/eve
 nt/2097-municipal-court-cancelled
DTSTART:20240725T150000Z
DTEND:20240725T190000Z
LOCATION:City of Bunker Hill Village City Hall (11977 Memorial Drive\, Hous
 ton\, TX 77024\, USA)
SUMMARY:Municipal Court 
URL:https://bunkerhilltx.gov/event/2097-municipal-court-cancelled
END:VEVENT
BEGIN:VEVENT
UID:20260420T175952UTC-1012jb7u22@https://bunkerhilltx.gov/
DTSTAMP:20260420T175952Z
DESCRIPTION:The Planning and Zoning Commission meets on the fourth Tuesday 
 of every month at 11:30 a.m. unless otherwise noted. Agendas are posted 72
  hours prior to the meetings. Minutes of the meetings are available follow
 ing approval.&nbsp\;\n----------------------------------------------------
 --------------------------------------------------------------------------
 ------------------\n&nbsp\;Cancellation Notice\n\n&nbsp\; https://bunkerhi
 lltx.gov/event/2115-planning-zoning-commission-meeting
DTSTART:20240723T163000Z
DTEND:20240723T183000Z
LOCATION:City of Bunker Hill Village City Hall (11977 Memorial Drive\, Hous
 ton\, TX 77024\, USA)
SUMMARY:Planning & Zoning Commission Meeting 
URL:https://bunkerhilltx.gov/event/2115-planning-zoning-commission-meeting
END:VEVENT
BEGIN:VEVENT
UID:20260420T175952UTC-1013dkXik7@https://bunkerhilltx.gov/
DTSTAMP:20260420T175952Z
DESCRIPTION:The City Council holds its regular meetings on the third Tuesda
 y of every month at 5:00 p.m\, unless otherwise noted. The agendas are pos
 ted on the website 72 hours prior to the meetings. Minutes of the meetings
  are also posted on the website after approval by the City Council.\nAgend
 a\n&nbsp\;----------------------------------------------------------------
 --------------------------------------------------------------------------
 -----\nJoin Zoom Meeting\nhttps://us06web.zoom.us/j/88057021301?pwd=2CbNIt
 pPkaO3v7S7Taz4spkeJozrbl.1\nMeeting ID:&nbsp\;880 5702 1301\nPasscode:&nbs
 p\;366460\nDial by your location:&nbsp\;+1 346 248 7799 US (Houston)\nThe 
 public will be permitted to offer public comments by video conference as p
 rovided by the agenda and as permitted by the presiding officer during the
  meeting. A recording of the meeting will be made and will be available to
  the public in accordance with the Open Meetings Act upon written request.
 \n\n&nbsp\; https://bunkerhilltx.gov/event/2149-special-city-council-meeti
 ng-budget-workshop
DTSTART:20240724T160000Z
DTEND:20240724T200000Z
LOCATION:City of Bunker Hill Village City Hall (11977 Memorial Drive\, Hous
 ton\, TX 77024\, USA)
SUMMARY:Special City Council Meeting (Budget Workshop)
URL:https://bunkerhilltx.gov/event/2149-special-city-council-meeting-budget
 -workshop
END:VEVENT
END:VCALENDAR
