BEGIN:VCALENDAR
VERSION:2.0
PRODID:-//https://bunkerhilltx.gov///NONSGML kigkonsult.se iCalcreator 2.10.15//
METHOD:PUBLISH
BEGIN:VEVENT
UID:20260421T012107UTC-4445oRwDKP@https://bunkerhilltx.gov/
DTSTAMP:20260421T012107Z
DESCRIPTION:The&nbsp\; Village Fire Commission typically meets&nbsp\;on the
  fourth Wednesday&nbsp\;of each month at the Fire Station starting at 6:00
  pm.&nbsp\; Meeting Agendas are posted 72 hours in advance of the meeting.
 &nbsp\; Please check the&nbsp\;Village Fire&nbsp\;Department website at&nb
 sp\;http://villagefire.org/&nbsp\;&nbsp\;to confirm meeting date\, time an
 d to access the agenda. https://bunkerhilltx.gov/event/518-village-fire-co
 mmission-meeting
DTSTART:20240626T230000Z
DTEND:20240627T010000Z
LOCATION:Village Fire Department  (901 Corbindale Road\, Houston\, TX 77024
 \, USA)
SUMMARY:Village Fire Commission Meeting
URL:https://bunkerhilltx.gov/event/518-village-fire-commission-meeting
END:VEVENT
BEGIN:VEVENT
UID:20260421T012107UTC-4446cAdBlP@https://bunkerhilltx.gov/
DTSTAMP:20260421T012107Z
DESCRIPTION:&nbsp\;\n&nbsp\;\n&nbsp\;\n&nbsp\; https://bunkerhilltx.gov/eve
 nt/2092-municipal-court
DTSTART:20240627T150000Z
DTEND:20240627T210000Z
LOCATION:City of Bunker Hill Village City Hall (11977 Memorial Drive\, Hous
 ton\, TX 77024\, USA)
SUMMARY:Municipal Court 
URL:https://bunkerhilltx.gov/event/2092-municipal-court
END:VEVENT
BEGIN:VEVENT
UID:20260421T012107UTC-4447upi49x@https://bunkerhilltx.gov/
DTSTAMP:20260421T012107Z
DESCRIPTION:The Planning and Zoning Commission meets on the fourth Tuesday 
 of every month at 11:30 a.m. unless otherwise noted. Agendas are posted 72
  hours prior to the meetings. Minutes of the meetings are available follow
 ing approval.&nbsp\;\n----------------------------------------------------
 --------------------------------------------------------------------------
 ------------------\n&nbsp\;Cancellation Notice\n\n\n&nbsp\; https://bunker
 hilltx.gov/event/2114-planning-zoning-commission-meeting
DTSTART:20240625T163000Z
DTEND:20240625T183000Z
LOCATION:City of Bunker Hill Village City Hall (11977 Memorial Drive\, Hous
 ton\, TX 77024\, USA)
SUMMARY:Planning & Zoning Commission Meeting 
URL:https://bunkerhilltx.gov/event/2114-planning-zoning-commission-meeting
END:VEVENT
BEGIN:VEVENT
UID:20260421T012107UTC-4448it5khR@https://bunkerhilltx.gov/
DTSTAMP:20260421T012107Z
DESCRIPTION:Agendas are posted 72 hours prior to the meetings. Minutes of t
 he meetings are available following approval.&nbsp\;\nAgenda\n------------
 --------------------------------------------------------------------------
 ----------------------------------------------------------\nJoin Zoom Meet
 ing\nhttps://us06web.zoom.us/j/87838336982?pwd=6vVUicYM0lzxaWsmZxQUasDT4MQ
 NW2.1\nMeeting ID:&nbsp\;878 3833 6982\nPasscode:&nbsp\;823092\nDial by yo
 ur location:&nbsp\;+1 346 248 7799 US (Houston)\nThe public will be permit
 ted to offer public comments by video conference as provided by the agenda
  and as permitted by the presiding officer during the meeting. A recording
  of the meeting will be made and will be available to the public in accord
 ance with the Open Meetings Act upon written request.\n\n\n&nbsp\; https:/
 /bunkerhilltx.gov/event/2131-zoning-board-of-adjustment-meeting
DTSTART:20240626T220000Z
DTEND:20240627T000000Z
LOCATION:City of Bunker Hill Village City Hall (11977 Memorial Drive\, Hous
 ton\, TX 77024\, USA)
SUMMARY:Zoning Board of Adjustment Meeting 
URL:https://bunkerhilltx.gov/event/2131-zoning-board-of-adjustment-meeting
END:VEVENT
END:VCALENDAR
