BEGIN:VCALENDAR
VERSION:2.0
PRODID:-//https://bunkerhilltx.gov///NONSGML kigkonsult.se iCalcreator 2.10.15//
METHOD:PUBLISH
BEGIN:VEVENT
UID:20260423T083441UTC-2567vX0iHb@https://bunkerhilltx.gov/
DTSTAMP:20260423T083441Z
DESCRIPTION:The&nbsp\; Village Fire Commission typically meets&nbsp\;on the
  fourth Wednesday&nbsp\;of each month at the Fire Station starting at 6:00
  pm.&nbsp\; Meeting Agendas are posted 72 hours in advance of the meeting.
 &nbsp\; Please check the&nbsp\;Village Fire&nbsp\;Department website at&nb
 sp\;http://villagefire.org/&nbsp\;&nbsp\;to confirm meeting date\, time an
 d to access the agenda. https://bunkerhilltx.gov/event/517-village-fire-co
 mmission-meeting
DTSTART:20240522T230000Z
DTEND:20240523T010000Z
LOCATION:Village Fire Department  (901 Corbindale Road\, Houston\, TX 77024
 \, USA)
SUMMARY:Village Fire Commission Meeting
URL:https://bunkerhilltx.gov/event/517-village-fire-commission-meeting
END:VEVENT
BEGIN:VEVENT
UID:20260423T083441UTC-2568vwrUG9@https://bunkerhilltx.gov/
DTSTAMP:20260423T083441Z
DESCRIPTION:Rescheduled Notice&nbsp\;\n&nbsp\;\n&nbsp\;\n&nbsp\; https://bu
 nkerhilltx.gov/event/2077-city-council-meeting
DTSTART:20240521T220000Z
DTEND:20240522T010000Z
LOCATION:City of Bunker Hill Village City Hall (11977 Memorial Drive\, Hous
 ton\, TX 77024\, USA)
SUMMARY:City Council Meeting
URL:https://bunkerhilltx.gov/event/2077-city-council-meeting
END:VEVENT
BEGIN:VEVENT
UID:20260423T083441UTC-2569uTVuSz@https://bunkerhilltx.gov/
DTSTAMP:20260423T083441Z
DESCRIPTION:&nbsp\;\n&nbsp\;\n&nbsp\;\n&nbsp\; https://bunkerhilltx.gov/eve
 nt/2091-municipal-court
DTSTART:20240523T150000Z
DTEND:20240523T210000Z
LOCATION:City of Bunker Hill Village City Hall (11977 Memorial Drive\, Hous
 ton\, TX 77024\, USA)
SUMMARY:Municipal Court 
URL:https://bunkerhilltx.gov/event/2091-municipal-court
END:VEVENT
END:VCALENDAR
