BEGIN:VCALENDAR
VERSION:2.0
PRODID:-//https://bunkerhilltx.gov///NONSGML kigkonsult.se iCalcreator 2.10.15//
METHOD:PUBLISH
BEGIN:VEVENT
UID:20260423T112301UTC-8098FZg3v2@https://bunkerhilltx.gov/
DTSTAMP:20260423T112301Z
DESCRIPTION:The Memorial Villages Police Commission typically meets on the 
 second Monday of each month at the Police Station starting at 6:00 pm.&nbs
 p\; Meeting Agendas are posted 72 hours in advance of the meeting.&nbsp\; 
 Please check the Memorial Police Department website at http://www.mvpdtx.o
 rg/&nbsp\;to confirm the meeting date\, time and to access the agenda.\n&n
 bsp\; https://bunkerhilltx.gov/event/625-memorial-villages-police-commissi
 on-meeting
DTSTART:20240513T230000Z
DTEND:20240514T010000Z
LOCATION:Memorial Villages Police Department (11981 Memorial Drive\, Housto
 n\, TX 77024\, USA)
SUMMARY:Memorial Villages Police Commission Meeting
URL:https://bunkerhilltx.gov/event/625-memorial-villages-police-commission-
 meeting
END:VEVENT
BEGIN:VEVENT
UID:20260423T112301UTC-81002xVhoo@https://bunkerhilltx.gov/
DTSTAMP:20260423T112301Z
DESCRIPTION:The City Council holds its regular meetings on the third Tuesda
 y of every month at 5:00 p.m\, unless otherwise noted. Meeting agendas are
  posted on the website 72 hours prior to the meeting. Meeting minutes are 
 posted on the website following approval by the City Council.\n&nbsp\;Agen
 da&nbsp\;\n&nbsp\;Rescheduled Notice&nbsp\;\n-----------------------------
 --------------------------------------------------------------------------
 -----------------------------------------\nJoin Zoom Meeting\nhttps://us06
 web.zoom.us/j/84158681177?pwd=D7lctK0OpCJmypZHFC8Wp0kMnOmba3.1\nMeeting ID
 :&nbsp\;841 5868 1177\nPasscode:&nbsp\;189544\nDial by your location:&nbsp
 \;+1 346 248 7799 US (Houston)\nThe public will be permitted to offer publ
 ic comments by video conference as provided by the agenda and as permitted
  by the presiding officer during the meeting. A recording of the meeting w
 ill be made and will be available to the public in accordance with the Ope
 n Meetings Act upon written request. https://bunkerhilltx.gov/event/2127-c
 ity-council-meeting-rescheduled
DTSTART:20240516T133000Z
DTEND:20240516T153000Z
LOCATION:Bunker Hill Village City Hall\, 11977 Memorial Dr\, Houston\, TX 7
 7024 ()
SUMMARY:City Council Meeting (Rescheduled) 
URL:https://bunkerhilltx.gov/event/2127-city-council-meeting-rescheduled
END:VEVENT
BEGIN:VEVENT
UID:20260423T112301UTC-8101J3wNzf@https://bunkerhilltx.gov/
DTSTAMP:20260423T112301Z
DESCRIPTION:Agendas are posted 72 hours prior to the meetings. Minutes of t
 he meetings are available following approval.&nbsp\;\nAgenda\n------------
 --------------------------------------------------------------------------
 ----------------------------------------------------------\nJoin Zoom Meet
 ing\nhttps://us06web.zoom.us/j/85428973894?pwd=7a2uWOYbsVxGHqYJKfJnK1eEJ7l
 Z66.1\nMeeting ID:&nbsp\;854 2897 3894\nPasscode:&nbsp\;815402\nDial by yo
 ur location:&nbsp\;+1 346 248 7799 US (Houston)\nThe public will be permit
 ted to offer public comments by video conference as provided by the agenda
  and as permitted by the presiding officer during the meeting. A recording
  of the meeting will be made and will be available to the public in accord
 ance with the Open Meetings Act upon written request.\n\n&nbsp\; https://b
 unkerhilltx.gov/event/2128-zoning-board-of-adjustment-meeting
DTSTART:20240515T220000Z
DTEND:20240516T000000Z
LOCATION:City of Bunker Hill Village City Hall (11977 Memorial Drive\, Hous
 ton\, TX 77024\, USA)
SUMMARY:Zoning Board of Adjustment Meeting 
URL:https://bunkerhilltx.gov/event/2128-zoning-board-of-adjustment-meeting
END:VEVENT
BEGIN:VEVENT
UID:20260423T112301UTC-8102c5ukOS@https://bunkerhilltx.gov/
DTSTAMP:20260423T112301Z
DESCRIPTION:Memorial Villages Police Department will host a Police Memorial
  Ceremony in honor of National Police Week on Monday\, May 13\, 2024 at 6:
 00 p.m. in front of the station.&nbsp\;\nFor more information about the ev
 ent\, click here.&nbsp\; https://bunkerhilltx.gov/event/2130-mvpd-police-m
 emorial-ceremony
DTSTART:20240513T230000Z
DTEND:20240514T010000Z
LOCATION:Memorial Villages Police Department  (11981 Memorial Dr. Houston\,
  TX 77024)
SUMMARY:MVPD Police Memorial Ceremony 
URL:https://bunkerhilltx.gov/event/2130-mvpd-police-memorial-ceremony
END:VEVENT
END:VCALENDAR
