BEGIN:VCALENDAR
VERSION:2.0
PRODID:-//https://bunkerhilltx.gov///NONSGML kigkonsult.se iCalcreator 2.10.15//
METHOD:PUBLISH
BEGIN:VEVENT
UID:20260420T095841UTC-33545KmgB3@https://bunkerhilltx.gov/
DTSTAMP:20260420T095841Z
DESCRIPTION:The&nbsp\; Village Fire Commission typically meets&nbsp\;on the
  fourth Wednesday&nbsp\;of each month at the Fire Station starting at 6:00
  pm.&nbsp\; Meeting Agendas are posted 72 hours in advance of the meeting.
 &nbsp\; Please check the&nbsp\;Village Fire&nbsp\;Department website at&nb
 sp\;http://villagefire.org/&nbsp\;&nbsp\;to confirm meeting date\, time an
 d to access the agenda. https://bunkerhilltx.gov/event/504-village-fire-co
 mmission-meeting
DTSTART:20230426T230000Z
DTEND:20230427T010000Z
LOCATION:Village Fire Department  (901 Corbindale Road\, Houston\, TX 77024
 \, USA)
SUMMARY:Village Fire Commission Meeting
URL:https://bunkerhilltx.gov/event/504-village-fire-commission-meeting
END:VEVENT
BEGIN:VEVENT
UID:20260420T095841UTC-33552NVeWX@https://bunkerhilltx.gov/
DTSTAMP:20260420T095841Z
DESCRIPTION:Please join us at the Memorial Villages Farmers Market each Sat
 urday. \nThe market is held from 9 am - 1 pm. \nWe look forward to seeing 
 you there!\nPlease click here to go to the Memorial Villages Farmers Marke
 t Website for more details. https://bunkerhilltx.gov/event/1620-villages-f
 armers-market
DTSTART;VALUE=DATE:20230429
LOCATION:First Congregational Church--Houston  (10840 Beinhorn Rd\, Houston
 \, TX 77024\, USA)
SUMMARY:Villages Farmers Market
URL:https://bunkerhilltx.gov/event/1620-villages-farmers-market
END:VEVENT
BEGIN:VEVENT
UID:20260420T095841UTC-3356VLozmJ@https://bunkerhilltx.gov/
DTSTAMP:20260420T095841Z
DESCRIPTION:THE PLANNING AND ZONING COMMISSION OF THE CITY OF BUNKER HILL V
 ILLAGE\, TEXAS\, WILL MEET ON TUESDAY\, APRIL 25\, 2023 AT 11:30 A.M. BUNK
 ER HILL VILLAGE CITY HALL COUNCIL CHAMBERS\, 11977 MEMORIAL DRIVE.&nbsp\;
 \n&nbsp\;\nAgenda\nAgenda Packet:\nItem III -&nbsp\; Agenda Summary &amp\;
  Preliminary Plat\nItem IV - Agenda Summary &amp\; Specific Use Permit App
 lication\nItem V - Code Updates\nItem VI - Minutes for February 21\, 2023
 \nJoin Zoom Meeting\nhttps://us06web.zoom.us/j/84233585314?pwd=ck9RVmhZT3J
 PU2dKZkxjZ2ZlcituUT09\nMeeting ID: 842 3358 5314\nPasscode: 654421\nDial b
 y your location\n+1 346 248 7799 US (Houston)\nThe public will be permitte
 d to offer public comments by video conference as provided by the agenda a
 nd as permitted by the presiding officer during the meeting.&nbsp\; A reco
 rding of the meeting will be made and will be available to the public in a
 ccordance with the Open Meetings Act upon written request. https://bunkerh
 illtx.gov/event/2029-planning-and-zoning-commission-meeting
DTSTART:20230425T163000Z
DTEND:20230425T180000Z
LOCATION:BUNKER HILL CITY HALL (11977 Memorial Dr\, Houston\, TX 77024\, US
 A)
SUMMARY:Planning and Zoning Commission Meeting 
URL:https://bunkerhilltx.gov/event/2029-planning-and-zoning-commission-meet
 ing
END:VEVENT
BEGIN:VEVENT
UID:20260420T095841UTC-3357K0bdvF@https://bunkerhilltx.gov/
DTSTAMP:20260420T095841Z
DESCRIPTION:Court dockets are posted 48 hours prior to court date and are s
 ubject to change without notice.\nDocket\nAll court appearances are via Zo
 om until further notice.&nbsp\; Please click the link below to schedule yo
 ur court appearance if you have not done so already.&nbsp\; If you do not 
 have a smart device to participate via zoom\, there is a terminal availabl
 e at Bunker Hill City Hall lobby for your use.&nbsp\; Only one person at a
  time is allowed in the building to use the lobby terminal. If you arrive 
 early\, you may text the Court Administrator at 713-467-9762 for further i
 nstructions.\nLINK TO SCHEDULE COURT APPOINTMENTS AND ZOOM APPEARANCES\nPe
 rsons charged with an expired driver's license\, expired motor vehicle ins
 pection or expired motor vehicle registration\, that has not been expired 
 more than sixty days and corrected it within twenty working days of the da
 te of the citation or date of your first appearance which ever comes first
  and have proof that it has been corrected\, may present proof prior to yo
 ur court date at the clerks office or appear in court to see the judge for
  consideration under the law for dismissal and if dismissed a $20.00 admin
 istrative fee will be paid to the court clerk. If you have been charged wi
 th failure to provide proof of financial responsibility and you did have i
 nsurance on the day you received the citation\, show the proof to the cour
 t. If it is correct\, that case will be dismissed. There is no administrat
 ive fee for financial responsibility.\nPlease see&nbsp\;Municipal Court in
 formation here\, or&nbsp\;search online here https://bunkerhilltx.gov/even
 t/2030-municipal-court
DTSTART:20230427T190000Z
DTEND:20230427T210000Z
LOCATION:Bunker Hill City Hall  (11977 Memorial Dr\, Houston\, TX 77024\, U
 SA)
SUMMARY:Municipal Court 
URL:https://bunkerhilltx.gov/event/2030-municipal-court
END:VEVENT
BEGIN:VEVENT
UID:20260420T095841UTC-33586g5d7s@https://bunkerhilltx.gov/
DTSTAMP:20260420T095841Z
DESCRIPTION:Court dockets are posted 48 hours prior to court date and are s
 ubject to change without notice.\nDocket\nAll court appearances are via Zo
 om until further notice.&nbsp\; Please click the link below to schedule yo
 ur court appearance if you have not done so already.&nbsp\; If you do not 
 have a smart device to participate via zoom\, there is a terminal availabl
 e at Bunker Hill City Hall lobby for your use.&nbsp\; Only one person at a
  time is allowed in the building to use the lobby terminal. If you arrive 
 early\, you may text the Court Administrator at 713-467-9762 for further i
 nstructions.\nLINK TO SCHEDULE COURT APPOINTMENTS AND ZOOM APPEARANCES\nPe
 rsons charged with an expired driver's license\, expired motor vehicle ins
 pection or expired motor vehicle registration\, that has not been expired 
 more than sixty days and corrected it within twenty working days of the da
 te of the citation or date of your first appearance which ever comes first
  and have proof that it has been corrected\, may present proof prior to yo
 ur court date at the clerks office or appear in court to see the judge for
  consideration under the law for dismissal and if dismissed a $20.00 admin
 istrative fee will be paid to the court clerk. If you have been charged wi
 th failure to provide proof of financial responsibility and you did have i
 nsurance on the day you received the citation\, show the proof to the cour
 t. If it is correct\, that case will be dismissed. There is no administrat
 ive fee for financial responsibility.\nPlease see&nbsp\;Municipal Court in
 formation here\, or&nbsp\;search online here https://bunkerhilltx.gov/even
 t/2031-municipal-court
DTSTART:20230427T150000Z
DTEND:20230427T170000Z
LOCATION:Bunker Hill City Hall  (11977 Memorial Dr\, Houston\, TX 77024\, U
 SA)
SUMMARY:Municipal Court 
URL:https://bunkerhilltx.gov/event/2031-municipal-court
END:VEVENT
END:VCALENDAR
