BEGIN:VCALENDAR
VERSION:2.0
PRODID:-//https://bunkerhilltx.gov///NONSGML kigkonsult.se iCalcreator 2.10.15//
METHOD:PUBLISH
BEGIN:VEVENT
UID:20260421T224355UTC-8225fURURX@https://bunkerhilltx.gov/
DTSTAMP:20260421T224355Z
DESCRIPTION:The&nbsp\; Village Fire Commission typically meets&nbsp\;on the
  fourth Wednesday&nbsp\;of each month at the Fire Station starting at 6:00
  pm.&nbsp\; Meeting Agendas are posted 72 hours in advance of the meeting.
 &nbsp\; Please check the&nbsp\;Village Fire&nbsp\;Department website at&nb
 sp\;http://villagefire.org/&nbsp\;&nbsp\;to confirm meeting date\, time an
 d to access the agenda. https://bunkerhilltx.gov/event/516-village-fire-co
 mmission-meeting
DTSTART:20240424T230000Z
DTEND:20240425T010000Z
LOCATION:Village Fire Department  (901 Corbindale Road\, Houston\, TX 77024
 \, USA)
SUMMARY:Village Fire Commission Meeting
URL:https://bunkerhilltx.gov/event/516-village-fire-commission-meeting
END:VEVENT
BEGIN:VEVENT
UID:20260421T224355UTC-8227E5cUuX@https://bunkerhilltx.gov/
DTSTAMP:20260421T224355Z
DESCRIPTION:Please join us at the Memorial Villages Farmers Market each Sat
 urday. \nThe market is held from 9 am - 1 pm. \nWe look forward to seeing 
 you there!\nPlease click here to go to the Memorial Villages Farmers Marke
 t Website for more details. https://bunkerhilltx.gov/event/1672-villages-f
 armers-market
DTSTART;VALUE=DATE:20240427
LOCATION:First Congregational Church--Houston  (10840 Beinhorn Rd\, Houston
 \, TX 77024\, USA)
SUMMARY:Villages Farmers Market
URL:https://bunkerhilltx.gov/event/1672-villages-farmers-market
END:VEVENT
BEGIN:VEVENT
UID:20260421T224355UTC-8228is0w9P@https://bunkerhilltx.gov/
DTSTAMP:20260421T224355Z
DESCRIPTION:&nbsp\;\n&nbsp\;\n&nbsp\;\n&nbsp\; https://bunkerhilltx.gov/eve
 nt/2090-municipal-court
DTSTART:20240425T150000Z
DTEND:20240425T210000Z
LOCATION:City of Bunker Hill Village City Hall (11977 Memorial Drive\, Hous
 ton\, TX 77024\, USA)
SUMMARY:Municipal Court 
URL:https://bunkerhilltx.gov/event/2090-municipal-court
END:VEVENT
BEGIN:VEVENT
UID:20260421T224355UTC-8229pzku6W@https://bunkerhilltx.gov/
DTSTAMP:20260421T224355Z
DESCRIPTION:The Planning and Zoning Commission meets on the fourth Tuesday 
 of every month at 11:30 a.m. unless otherwise noted. Agendas are posted 72
  hours prior to the meetings. Minutes of the meetings are available follow
 ing approval.&nbsp\;\nAgenda\n--------------------------------------------
 --------------------------------------------------------------------------
 --------------------------\nJoin Zoom Meeting\nhttps://us06web.zoom.us/j/8
 9927652899?pwd=7hTBQhtaKTv1FMKp4taqjut9lk6WFV.1\nMeeting ID:&nbsp\;899 276
 5 2899\nPasscode:&nbsp\;111408\nDial by your location:&nbsp\;+1 346 248 77
 99 US (Houston)\nThe public will be permitted to offer public comments by 
 video conference as provided by the agenda and as permitted by the presidi
 ng officer during the meeting. A recording of the meeting will be made and
  will be available to the public in accordance with the Open Meetings Act 
 upon written request.\n\n&nbsp\; https://bunkerhilltx.gov/event/2112-plann
 ing-zoning-commission-meeting
DTSTART:20240423T163000Z
DTEND:20240423T183000Z
LOCATION:City of Bunker Hill Village City Hall (11977 Memorial Drive\, Hous
 ton\, TX 77024\, USA)
SUMMARY:Planning & Zoning Commission Meeting 
URL:https://bunkerhilltx.gov/event/2112-planning-zoning-commission-meeting
END:VEVENT
BEGIN:VEVENT
UID:20260421T224355UTC-82312rd8Um@https://bunkerhilltx.gov/
DTSTAMP:20260421T224355Z
DESCRIPTION:Agendas are posted 72 hours prior to the meetings. Minutes of t
 he meetings are available following approval.&nbsp\;\nAgenda\n------------
 --------------------------------------------------------------------------
 ----------------------------------------------------------\nJoin Zoom Meet
 ing\nhttps://us06web.zoom.us/j/82804565083?pwd=oIgaTsuCOh2CocfHvsTYtQgJgvt
 0We.1\nMeeting ID:&nbsp\;828 0456 5083\nPasscode:&nbsp\;359371\nDial by yo
 ur location:&nbsp\;+1 346 248 7799 US (Houston)\nThe public will be permit
 ted to offer public comments by video conference as provided by the agenda
  and as permitted by the presiding officer during the meeting. A recording
  of the meeting will be made and will be available to the public in accord
 ance with the Open Meetings Act upon written request.\n\n&nbsp\; https://b
 unkerhilltx.gov/event/2125-zoning-board-of-adjustment-meeting
DTSTART:20240425T220000Z
DTEND:20240426T000000Z
LOCATION:City of Bunker Hill Village City Hall (11977 Memorial Drive\, Hous
 ton\, TX 77024\, USA)
SUMMARY:Zoning Board of Adjustment Meeting 
URL:https://bunkerhilltx.gov/event/2125-zoning-board-of-adjustment-meeting
END:VEVENT
END:VCALENDAR
