BEGIN:VCALENDAR
VERSION:2.0
PRODID:-//https://bunkerhilltx.gov///NONSGML kigkonsult.se iCalcreator 2.10.15//
METHOD:PUBLISH
BEGIN:VEVENT
UID:20260420T135052UTC-0784TXdhW4@https://bunkerhilltx.gov/
DTSTAMP:20260420T135052Z
DESCRIPTION:Please join us at the Memorial Villages Farmers Market each Sat
 urday. \nThe market is held from 9 am - 1 pm. \nWe look forward to seeing 
 you there!\nPlease click here to go to the Memorial Villages Farmers Marke
 t Website for more details. https://bunkerhilltx.gov/event/1617-villages-f
 armers-market
DTSTART;VALUE=DATE:20230408
LOCATION:First Congregational Church--Houston  (10840 Beinhorn Rd\, Houston
 \, TX 77024\, USA)
SUMMARY:Villages Farmers Market
URL:https://bunkerhilltx.gov/event/1617-villages-farmers-market
END:VEVENT
BEGIN:VEVENT
UID:20260420T135052UTC-07857MoBRl@https://bunkerhilltx.gov/
DTSTAMP:20260420T135052Z
DESCRIPTION:City Hall will be closed in observance of the Easter Holiday be
 ginning Thursday\, April 6\, 2023 at noon.\nCity Hall will reopen on Monda
 y\, April 10\, 2022.\nThank You! https://bunkerhilltx.gov/event/2017-city-
 hall-closes-at-noon-in-observance-of-the-easter-holiday-normal-trash-servi
 ces-construction-allowed
DTSTART:20230406T170000Z
DTEND:20230406T213000Z
LOCATION:City of Bunker Hill Village City Hall (11977 Memorial Drive\, Hous
 ton\, TX 77024\, USA)
SUMMARY:City Hall Closes at Noon in observance of the Easter Holiday - Norm
 al Trash Services & Construction Allowed
URL:https://bunkerhilltx.gov/event/2017-city-hall-closes-at-noon-in-observa
 nce-of-the-easter-holiday-normal-trash-services-construction-allowed
END:VEVENT
BEGIN:VEVENT
UID:20260420T135052UTC-0786MdLEh9@https://bunkerhilltx.gov/
DTSTAMP:20260420T135052Z
DESCRIPTION:City Hall will be closed for Good Friday and the Easter Holiday
 . We will be open the following&nbsp\;Monday. https://bunkerhilltx.gov/eve
 nt/2019-city-hall-closed-in-observance-of-the-easter-holiday-normal-trash-
 services-construction-allowed
DTSTART;VALUE=DATE:20230407
LOCATION:City of Bunker Hill Village City Hall (11977 Memorial Drive\, Hous
 ton\, TX 77024\, USA)
SUMMARY:City Hall Closed in Observance of the Easter Holiday - Normal Trash
  Services & Construction Allowed
URL:https://bunkerhilltx.gov/event/2019-city-hall-closed-in-observance-of-t
 he-easter-holiday-normal-trash-services-construction-allowed
END:VEVENT
END:VCALENDAR
