BEGIN:VCALENDAR
VERSION:2.0
PRODID:-//https://bunkerhilltx.gov///NONSGML kigkonsult.se iCalcreator 2.10.15//
METHOD:PUBLISH
BEGIN:VEVENT
UID:20260421T170029UTC-57447h5L7V@https://bunkerhilltx.gov/
DTSTAMP:20260421T170029Z
DESCRIPTION:The&nbsp\; Village Fire Commission typically meets&nbsp\;on the
  fourth Wednesday&nbsp\;of each month at the Fire Station starting at 6:00
  pm.&nbsp\; Meeting Agendas are posted 72 hours in advance of the meeting.
 &nbsp\; Please check the&nbsp\;Village Fire&nbsp\;Department website at&nb
 sp\;http://villagefire.org/&nbsp\;&nbsp\;to confirm meeting date\, time an
 d to access the agenda. https://bunkerhilltx.gov/event/515-village-fire-co
 mmission-meeting
DTSTART:20240327T230000Z
DTEND:20240328T010000Z
LOCATION:Village Fire Department  (901 Corbindale Road\, Houston\, TX 77024
 \, USA)
SUMMARY:Village Fire Commission Meeting
URL:https://bunkerhilltx.gov/event/515-village-fire-commission-meeting
END:VEVENT
BEGIN:VEVENT
UID:20260421T170029UTC-5745tou2ww@https://bunkerhilltx.gov/
DTSTAMP:20260421T170029Z
DESCRIPTION:Please join us at the Memorial Villages Farmers Market each Sat
 urday. \nThe market is held from 9 am - 1 pm. \nWe look forward to seeing 
 you there!\nPlease click here to go to the Memorial Villages Farmers Marke
 t Website for more details. https://bunkerhilltx.gov/event/1668-villages-f
 armers-market
DTSTART;VALUE=DATE:20240330
LOCATION:First Congregational Church--Houston  (10840 Beinhorn Rd\, Houston
 \, TX 77024\, USA)
SUMMARY:Villages Farmers Market
URL:https://bunkerhilltx.gov/event/1668-villages-farmers-market
END:VEVENT
BEGIN:VEVENT
UID:20260421T170029UTC-5745p0uo2X@https://bunkerhilltx.gov/
DTSTAMP:20260421T170029Z
DESCRIPTION:&nbsp\;\n&nbsp\;\n&nbsp\;\n&nbsp\; https://bunkerhilltx.gov/eve
 nt/2088-municipal-court
DTSTART:20240328T150000Z
DTEND:20240328T170000Z
LOCATION:City of Bunker Hill Village City Hall (11977 Memorial Drive\, Hous
 ton\, TX 77024\, USA)
SUMMARY:Municipal Court 
URL:https://bunkerhilltx.gov/event/2088-municipal-court
END:VEVENT
BEGIN:VEVENT
UID:20260421T170029UTC-5746k68HFz@https://bunkerhilltx.gov/
DTSTAMP:20260421T170029Z
DESCRIPTION:For Public Works related emergencies outside of regular busines
 s hours\, contact Memorial Villages Police Department Dispatch at 713-365-
 3700.\n&nbsp\; https://bunkerhilltx.gov/event/2089-city-hall-closed-for-go
 od-friday-holiday
DTSTART;VALUE=DATE:20240329
LOCATION:City of Bunker Hill Village City Hall (11977 Memorial Drive\, Hous
 ton\, TX 77024\, USA)
SUMMARY:City Hall Closed for Good Friday Holiday 
URL:https://bunkerhilltx.gov/event/2089-city-hall-closed-for-good-friday-ho
 liday
END:VEVENT
BEGIN:VEVENT
UID:20260421T170029UTC-5746Vdjvkm@https://bunkerhilltx.gov/
DTSTAMP:20260421T170029Z
DESCRIPTION:The Planning and Zoning Commission meets on the fourth Tuesday 
 of every month at 11:30 a.m. unless otherwise noted. Agendas are posted 72
  hours prior to the meetings. Minutes of the meetings are available follow
 ing approval.&nbsp\;\n----------------------------------------------------
 --------------------------------------------------------------------------
 ------------------\nAgenda Packet\n&nbsp\;\nJoin Zoom Meeting\nhttps://us0
 6web.zoom.us/j/84947774461?pwd=dp5LyzrJ6afCYcajbYV6wpwacA9iuW.1\nMeeting I
 D:&nbsp\;849 4777 4461\nPasscode:&nbsp\;289628\nDial by your location:&nbs
 p\;+1 346 248 7799 US (Houston)\nThe public will be permitted to offer pub
 lic comments by video conference as provided by the agenda and as permitte
 d by the presiding officer during the meeting. A recording of the meeting 
 will be made and will be available to the public in accordance with the Op
 en Meetings Act upon written request. https://bunkerhilltx.gov/event/2111-
 planning-zoning-commission-meeting
DTSTART:20240326T163000Z
DTEND:20240326T183000Z
LOCATION:City of Bunker Hill Village City Hall (11977 Memorial Drive\, Hous
 ton\, TX 77024\, USA)
SUMMARY:Planning & Zoning Commission Meeting 
URL:https://bunkerhilltx.gov/event/2111-planning-zoning-commission-meeting
END:VEVENT
BEGIN:VEVENT
UID:20260421T170029UTC-5747zZGVlg@https://bunkerhilltx.gov/
DTSTAMP:20260421T170029Z
DESCRIPTION:For Public Works related emergencies outside of regular busines
 s hours\, contact Memorial Villages Police Department Dispatch at 713-365-
 3700.\n&nbsp\; https://bunkerhilltx.gov/event/2123-city-hall-closed-for-go
 od-friday-holiday-beginning-at-12-00-p-m
DTSTART:20240328T170000Z
DTEND:20240328T213000Z
LOCATION:City of Bunker Hill Village City Hall (11977 Memorial Drive\, Hous
 ton\, TX 77024\, USA)
SUMMARY:City Hall Closed for Good Friday Holiday Beginning at 12:00 p.m.
URL:https://bunkerhilltx.gov/event/2123-city-hall-closed-for-good-friday-ho
 liday-beginning-at-12-00-p-m
END:VEVENT
END:VCALENDAR
