BEGIN:VCALENDAR
VERSION:2.0
PRODID:-//https://bunkerhilltx.gov///NONSGML kigkonsult.se iCalcreator 2.10.15//
METHOD:PUBLISH
BEGIN:VEVENT
UID:20260420T164207UTC-9548vec3Wc@https://bunkerhilltx.gov/
DTSTAMP:20260420T164207Z
DESCRIPTION:The&nbsp\; Village Fire Commission typically meets&nbsp\;on the
  fourth Wednesday&nbsp\;of each month at the Fire Station starting at 6:00
  pm.&nbsp\; Meeting Agendas are posted 72 hours in advance of the meeting.
 &nbsp\; Please check the&nbsp\;Village Fire&nbsp\;Department website at&nb
 sp\;http://villagefire.org/&nbsp\;&nbsp\;to confirm meeting date\, time an
 d to access the agenda. https://bunkerhilltx.gov/event/503-village-fire-co
 mmission-meeting
DTSTART:20230322T230000Z
DTEND:20230323T010000Z
LOCATION:Village Fire Department  (901 Corbindale Road\, Houston\, TX 77024
 \, USA)
SUMMARY:Village Fire Commission Meeting
URL:https://bunkerhilltx.gov/event/503-village-fire-commission-meeting
END:VEVENT
BEGIN:VEVENT
UID:20260420T164207UTC-955095nLNe@https://bunkerhilltx.gov/
DTSTAMP:20260420T164207Z
DESCRIPTION:Please join us at the Memorial Villages Farmers Market each Sat
 urday. \nThe market is held from 9 am - 1 pm. \nWe look forward to seeing 
 you there!\nPlease click here to go to the Memorial Villages Farmers Marke
 t Website for more details. https://bunkerhilltx.gov/event/1615-villages-f
 armers-market
DTSTART;VALUE=DATE:20230325
LOCATION:First Congregational Church--Houston  (10840 Beinhorn Rd\, Houston
 \, TX 77024\, USA)
SUMMARY:Villages Farmers Market
URL:https://bunkerhilltx.gov/event/1615-villages-farmers-market
END:VEVENT
BEGIN:VEVENT
UID:20260420T164207UTC-9551USTbf7@https://bunkerhilltx.gov/
DTSTAMP:20260420T164207Z
DESCRIPTION:Court dockets are posted 48 hours prior to court date and are s
 ubject to change without notice.\nDocket\nAll court appearances are via Zo
 om until further notice.&nbsp\; Please click the link below to schedule yo
 ur court appearance if you have not done so already.&nbsp\; If you do not 
 have a smart device to participate via zoom\, there is a terminal availabl
 e at Bunker Hill City Hall lobby for your use.&nbsp\; Only one person at a
  time is allowed in the building to use the lobby terminal. If you arrive 
 early\, you may text the Court Administrator at 713-467-9762 for further i
 nstructions.\nLINK TO SCHEDULE COURT APPOINTMENTS AND ZOOM APPEARANCES\nPe
 rsons charged with an expired driver's license\, expired motor vehicle ins
 pection or expired motor vehicle registration\, that has not been expired 
 more than sixty days and corrected it within twenty working days of the da
 te of the citation or date of your first appearance which ever comes first
  and have proof that it has been corrected\, may present proof prior to yo
 ur court date at the clerks office or appear in court to see the judge for
  consideration under the law for dismissal and if dismissed a $20.00 admin
 istrative fee will be paid to the court clerk. If you have been charged wi
 th failure to provide proof of financial responsibility and you did have i
 nsurance on the day you received the citation\, show the proof to the cour
 t. If it is correct\, that case will be dismissed. There is no administrat
 ive fee for financial responsibility.\nPlease see&nbsp\;Municipal Court in
 formation here\, or&nbsp\;search online here https://bunkerhilltx.gov/even
 t/2011-municipal-court
DTSTART:20230323T190000Z
DTEND:20230323T210000Z
LOCATION:Bunker Hill City Hall  (11977 Memorial Dr\, Houston\, TX 77024\, U
 SA)
SUMMARY:Municipal Court 
URL:https://bunkerhilltx.gov/event/2011-municipal-court
END:VEVENT
BEGIN:VEVENT
UID:20260420T164207UTC-9554jhFuHZ@https://bunkerhilltx.gov/
DTSTAMP:20260420T164207Z
DESCRIPTION:NOTICE OF MEETING BY TELEPHONE AND VIDEO CONFERENCE:\nIn accord
 ance with Texas Government Code\, Sec. 551.127\, on a regular\, non-emerge
 ncy basis\, Councilmembers may attend and participate in a meeting remotel
 y by video conference.&nbsp\; Should such attendance transpire\, a quorum 
 of the Council will be physically present at the location noted&nbsp\; on 
 this agenda.\nCouncil Agenda\nAgenda Packet\nThe public will be able to ob
 serve and participate in the meeting as follows:\nJoin Zoom Meeting\nhttps
 ://us06web.zoom.us/j/89531286973?pwd=cUlOSWdXK3hpaEdobm52dDVqcnJHdz09\nMee
 ting ID: 895 3128 6973\nPasscode: 144854\nDial by your location\n+1 346 24
 8 7799 US (Houston)\nMeeting ID: 895 3128 6973\nThe public will be permitt
 ed to offer public comments by video conference as provided by the agenda 
 and as permitted by the presiding officer during the meeting.&nbsp\; A rec
 ording of the meeting will be made\, and will be available to the public i
 n accordance with the Open Meetings Act upon written request. https://bunk
 erhilltx.gov/event/2013-city-council-meeting-5-00-p-m
DTSTART:20230321T220000Z
DTEND:20230322T010000Z
LOCATION:Bunker Hill City Hall  (11977 Memorial Dr\, Houston\, TX 77024\, U
 SA)
SUMMARY:City Council Meeting 5:00 p.m.
URL:https://bunkerhilltx.gov/event/2013-city-council-meeting-5-00-p-m
END:VEVENT
BEGIN:VEVENT
UID:20260420T164207UTC-9556dcOr56@https://bunkerhilltx.gov/
DTSTAMP:20260420T164207Z
DESCRIPTION:NOTICE OF MEETING BY TELEPHONE AND VIDEO CONFERENCE:\nIn accord
 ance with Texas Government Code\, Sec. 551.127\, on a regular\, non-emerge
 ncy basis\, Directors may attend and participate in a meeting remotely by 
 video conference.&nbsp\; Should such attendance transpire\, a quorum of th
 e Board of Directors will be physically present at the location noted abov
 e on this agenda.&nbsp\;\nAgenda\nBylaws\n&nbsp\;\nThe public will be able
  to observe and participate in the meeting as follows:\nJoin Zoom Meeting
 \nhttps://us06web.zoom.us/j/83679573436?pwd=RXhQL3lORnFaREw2Q0VaSi9EZ3FRQT
 09\nMeeting ID: 836 7957 3436\nPasscode: 563898\nDial by your location\n+1
  346 248 7799 US (Houston)\nMeeting ID: 836 7957 3436\n&nbsp\;\nThe public
  will be permitted to offer public comments by video conference as provide
 d by the agenda and as permitted by the presiding officer during the meeti
 ng.&nbsp\; A recording of the meeting will be made\, and will be available
  to the public in accordance with the Open Meetings Act upon written reque
 st.\n&nbsp\; https://bunkerhilltx.gov/event/2014-bhv-inc-meeting-4-30-p-m
DTSTART:20230321T213000Z
DTEND:20230321T220000Z
LOCATION:Bunker Hill City Hall  (11977 Memorial Dr\, Houston\, TX 77024\, U
 SA)
SUMMARY:BHV\, Inc. Meeting 4:30 p.m.
URL:https://bunkerhilltx.gov/event/2014-bhv-inc-meeting-4-30-p-m
END:VEVENT
BEGIN:VEVENT
UID:20260420T164207UTC-95581gGbDk@https://bunkerhilltx.gov/
DTSTAMP:20260420T164207Z
DESCRIPTION:Court dockets are posted 48 hours prior to court date and are s
 ubject to change without notice.\nDocket\nAll court appearances are via Zo
 om until further notice.&nbsp\; Please click the link below to schedule yo
 ur court appearance if you have not done so already.&nbsp\; If you do not 
 have a smart device to participate via zoom\, there is a terminal availabl
 e at Bunker Hill City Hall lobby for your use.&nbsp\; Only one person at a
  time is allowed in the building to use the lobby terminal. If you arrive 
 early\, you may text the Court Administrator at 713-467-9762 for further i
 nstructions.\nLINK TO SCHEDULE COURT APPOINTMENTS AND ZOOM APPEARANCES\nPe
 rsons charged with an expired driver's license\, expired motor vehicle ins
 pection or expired motor vehicle registration\, that has not been expired 
 more than sixty days and corrected it within twenty working days of the da
 te of the citation or date of your first appearance which ever comes first
  and have proof that it has been corrected\, may present proof prior to yo
 ur court date at the clerks office or appear in court to see the judge for
  consideration under the law for dismissal and if dismissed a $20.00 admin
 istrative fee will be paid to the court clerk. If you have been charged wi
 th failure to provide proof of financial responsibility and you did have i
 nsurance on the day you received the citation\, show the proof to the cour
 t. If it is correct\, that case will be dismissed. There is no administrat
 ive fee for financial responsibility.\nPlease see&nbsp\;Municipal Court in
 formation here\, or&nbsp\;search online here https://bunkerhilltx.gov/even
 t/2026-municipal-court
DTSTART:20230323T150000Z
DTEND:20230323T170000Z
LOCATION:Bunker Hill City Hall  (11977 Memorial Dr\, Houston\, TX 77024\, U
 SA)
SUMMARY:Municipal Court 
URL:https://bunkerhilltx.gov/event/2026-municipal-court
END:VEVENT
END:VCALENDAR
