BEGIN:VCALENDAR
VERSION:2.0
PRODID:-//https://bunkerhilltx.gov///NONSGML kigkonsult.se iCalcreator 2.10.15//
METHOD:PUBLISH
BEGIN:VEVENT
UID:20260421T154302UTC-05205izeDj@https://bunkerhilltx.gov/
DTSTAMP:20260421T154302Z
DESCRIPTION:Please join us at the Memorial Villages Farmers Market each Sat
 urday. \nThe market is held from 9 am - 1 pm. \nWe look forward to seeing 
 you there!\nPlease click here to go to the Memorial Villages Farmers Marke
 t Website for more details. https://bunkerhilltx.gov/event/1667-villages-f
 armers-market
DTSTART;VALUE=DATE:20240323
LOCATION:First Congregational Church--Houston  (10840 Beinhorn Rd\, Houston
 \, TX 77024\, USA)
SUMMARY:Villages Farmers Market
URL:https://bunkerhilltx.gov/event/1667-villages-farmers-market
END:VEVENT
BEGIN:VEVENT
UID:20260421T154302UTC-0521hJ1UUs@https://bunkerhilltx.gov/
DTSTAMP:20260421T154302Z
DESCRIPTION:Agenda Packet\n------------------------------------------------
 --------------------------------------------------------------------------
 -------------------\nJoin Zoom Meeting\nhttps://us06web.zoom.us/j/87824042
 231?pwd=JGGuncSrxkHZhui6zfh8Uztpi3HBz3.1\nMeeting ID:&nbsp\;&nbsp\;878 240
 4 2231\nPasscode:&nbsp\;038262\nDial by your location:&nbsp\;+1 346 248 77
 99 US (Houston)\nThe public will be permitted to offer public comments by 
 video conference as provided by the agenda and as permitted by the presidi
 ng officer during the meeting. A recording of the meeting will be made\, a
 nd will be available to the public in accordance with the Open Meetings Ac
 t upon written request.\n\n&nbsp\; https://bunkerhilltx.gov/event/2075-cit
 y-council-meeting
DTSTART:20240319T220000Z
DTEND:20240320T010000Z
LOCATION:City of Bunker Hill Village City Hall (11977 Memorial Drive\, Hous
 ton\, TX 77024\, USA)
SUMMARY:City Council Meeting
URL:https://bunkerhilltx.gov/event/2075-city-council-meeting
END:VEVENT
END:VCALENDAR
