BEGIN:VCALENDAR
VERSION:2.0
PRODID:-//https://bunkerhilltx.gov///NONSGML kigkonsult.se iCalcreator 2.10.15//
METHOD:PUBLISH
BEGIN:VEVENT
UID:20260420T192655UTC-0908cvmIZU@https://bunkerhilltx.gov/
DTSTAMP:20260420T192655Z
DESCRIPTION:Please join us at the Memorial Villages Farmers Market each Sat
 urday. \nThe market is held from 9 am - 1 pm. \nWe look forward to seeing 
 you there!\nPlease click here to go to the Memorial Villages Farmers Marke
 t Website for more details. https://bunkerhilltx.gov/event/1613-villages-f
 armers-market
DTSTART;VALUE=DATE:20230311
LOCATION:First Congregational Church--Houston  (10840 Beinhorn Rd\, Houston
 \, TX 77024\, USA)
SUMMARY:Villages Farmers Market
URL:https://bunkerhilltx.gov/event/1613-villages-farmers-market
END:VEVENT
BEGIN:VEVENT
UID:20260420T192655UTC-0909jAsU85@https://bunkerhilltx.gov/
DTSTAMP:20260420T192655Z
DESCRIPTION:NOTICE OF MEETING BY TELEPHONE AND VIDEO CONFERENCE:\nIn accord
 ance with Texas Government Code\, Sec. 551.127\, on a regular\, non-emerge
 ncy basis\, Councilmembers may attend and participate in a meeting remotel
 y by video conference.&nbsp\; Should such attendance transpire\, a quorum 
 of the Council will be physically present at the location noted&nbsp\; on 
 this agenda.\n&nbsp\;\nCouncil Agenda\n&nbsp\;\nJoin Zoom Meeting\nhttps:/
 /us06web.zoom.us/j/83031651364?pwd=TTBwbllnSWx1SUtzWHd6OHJtSVZlUT09&nbsp\;
 \nMeeting ID: 830 3165 1364\nPasscode: 914384\nDial by your location\n&nbs
 p\;&nbsp\;&nbsp\;&nbsp\;&nbsp\;&nbsp\;&nbsp\; +1 346 248 7799 US (Houston)
 \n&nbsp\;\nThe public will be permitted to offer public comments by video 
 conference as provided by the agenda and as permitted by the presiding off
 icer during the meeting.&nbsp\; A recording of the meeting will be made\, 
 and will be available to the public in accordance with the Open Meetings A
 ct upon written request.\n&nbsp\; https://bunkerhilltx.gov/event/2012-spec
 ial-city-council-meeting
DTSTART:20230309T230000Z
DTEND:20230310T000000Z
LOCATION:Bunker Hill City Hall  (11977 Memorial Dr\, Houston\, TX 77024\, U
 SA)
SUMMARY:Special City Council Meeting 
URL:https://bunkerhilltx.gov/event/2012-special-city-council-meeting
END:VEVENT
END:VCALENDAR
