BEGIN:VCALENDAR
VERSION:2.0
PRODID:-//https://bunkerhilltx.gov///NONSGML kigkonsult.se iCalcreator 2.10.15//
METHOD:PUBLISH
BEGIN:VEVENT
UID:20260421T111823UTC-1845ecJZhj@https://bunkerhilltx.gov/
DTSTAMP:20260421T111823Z
DESCRIPTION:The&nbsp\; Village Fire Commission typically meets&nbsp\;on the
  fourth Wednesday&nbsp\;of each month at the Fire Station starting at 6:00
  pm.&nbsp\; Meeting Agendas are posted 72 hours in advance of the meeting.
 &nbsp\; Please check the&nbsp\;Village Fire&nbsp\;Department website at&nb
 sp\;http://villagefire.org/&nbsp\;&nbsp\;to confirm meeting date\, time an
 d to access the agenda. https://bunkerhilltx.gov/event/514-village-fire-co
 mmission-meeting
DTSTART:20240229T000000Z
DTEND:20240229T020000Z
LOCATION:Village Fire Department  (901 Corbindale Road\, Houston\, TX 77024
 \, USA)
SUMMARY:Village Fire Commission Meeting
URL:https://bunkerhilltx.gov/event/514-village-fire-commission-meeting
END:VEVENT
BEGIN:VEVENT
UID:20260421T111823UTC-1846f8ItM1@https://bunkerhilltx.gov/
DTSTAMP:20260421T111823Z
DESCRIPTION:Please join us at the Memorial Villages Farmers Market each Sat
 urday. \nThe market is held from 9 am - 1 pm. \nWe look forward to seeing 
 you there!\nPlease click here to go to the Memorial Villages Farmers Marke
 t Website for more details. https://bunkerhilltx.gov/event/1664-villages-f
 armers-market
DTSTART;VALUE=DATE:20240302
LOCATION:First Congregational Church--Houston  (10840 Beinhorn Rd\, Houston
 \, TX 77024\, USA)
SUMMARY:Villages Farmers Market
URL:https://bunkerhilltx.gov/event/1664-villages-farmers-market
END:VEVENT
BEGIN:VEVENT
UID:20260421T111823UTC-1846XFx64w@https://bunkerhilltx.gov/
DTSTAMP:20260421T111823Z
DESCRIPTION:The Planning and Zoning Commission meets on the fourth Tuesday 
 of every month at 11:30 a.m. unless otherwise noted. Agendas are posted 72
  hours prior to the meetings. Minutes of the meetings are available follow
 ing approval.&nbsp\;\nAgenda&nbsp\;Packet&nbsp\;\n------------------------
 --------------------------------------------------------------------------
 ----------------------------------------------\nJoin Zoom Meeting\nhttps:/
 /us06web.zoom.us/j/83880924614?pwd=i6DGldcduRNPMEer67RsSA4kimwmZi.1\nMeeti
 ng ID:&nbsp\;838 8092 4614\nPasscode:&nbsp\;543026\nDial by your location:
 &nbsp\;+1 346 248 7799 US (Houston)\nThe public will be permitted to offer
  public comments by video conference as provided by the agenda and as perm
 itted by the presiding officer during the meeting. A recording of the meet
 ing will be made and will be available to the public in accordance with th
 e Open Meetings Act upon written request.\n\n&nbsp\; https://bunkerhilltx.
 gov/event/2110-planning-zoning-commission-meeting
DTSTART:20240227T173000Z
DTEND:20240227T193000Z
LOCATION:City of Bunker Hill Village City Hall (11977 Memorial Drive\, Hous
 ton\, TX 77024\, USA)
SUMMARY:Planning & Zoning Commission Meeting 
URL:https://bunkerhilltx.gov/event/2110-planning-zoning-commission-meeting
END:VEVENT
END:VCALENDAR
