BEGIN:VCALENDAR
VERSION:2.0
PRODID:-//https://bunkerhilltx.gov///NONSGML kigkonsult.se iCalcreator 2.10.15//
METHOD:PUBLISH
BEGIN:VEVENT
UID:20260421T095010UTC-0414RZB1Un@https://bunkerhilltx.gov/
DTSTAMP:20260421T095010Z
DESCRIPTION:Please join us at the Memorial Villages Farmers Market each Sat
 urday. \nThe market is held from 9 am - 1 pm. \nWe look forward to seeing 
 you there!\nPlease click here to go to the Memorial Villages Farmers Marke
 t Website for more details. https://bunkerhilltx.gov/event/1663-villages-f
 armers-market
DTSTART;VALUE=DATE:20240224
LOCATION:First Congregational Church--Houston  (10840 Beinhorn Rd\, Houston
 \, TX 77024\, USA)
SUMMARY:Villages Farmers Market
URL:https://bunkerhilltx.gov/event/1663-villages-farmers-market
END:VEVENT
BEGIN:VEVENT
UID:20260421T095010UTC-0415vf3iV5@https://bunkerhilltx.gov/
DTSTAMP:20260421T095010Z
DESCRIPTION:Agenda Packet&nbsp\;\n-----------------------------------------
 --------------------------------------------------------------------------
 --------------------------\nJoin Zoom Meeting\nhttps://us06web.zoom.us/j/8
 2484813650?pwd=wj4O6OLUGDQFuhY8KdnbqduOYb8ALp.1\nMeeting ID:&nbsp\;824 848
 1 3650\nPasscode:&nbsp\;545846\nDial by your location:&nbsp\;+1 346 248 77
 99 US (Houston)\nThe public will be permitted to offer public comments by 
 video conference as provided by the agenda and as permitted by the presidi
 ng officer during the meeting. A recording of the meeting will be made\, a
 nd will be available to the public in accordance with the Open Meetings Ac
 t upon written request.\n https://bunkerhilltx.gov/event/2074-city-council
 -meeting
DTSTART:20240220T230000Z
DTEND:20240221T020000Z
LOCATION:City of Bunker Hill Village City Hall (11977 Memorial Drive\, Hous
 ton\, TX 77024\, USA)
SUMMARY:City Council Meeting
URL:https://bunkerhilltx.gov/event/2074-city-council-meeting
END:VEVENT
BEGIN:VEVENT
UID:20260421T095010UTC-0416uAVujh@https://bunkerhilltx.gov/
DTSTAMP:20260421T095010Z
DESCRIPTION:&nbsp\;\n&nbsp\;\n&nbsp\;\n&nbsp\; https://bunkerhilltx.gov/eve
 nt/2087-municipal-court
DTSTART:20240222T160000Z
DTEND:20240222T220000Z
LOCATION:City of Bunker Hill Village City Hall (11977 Memorial Drive\, Hous
 ton\, TX 77024\, USA)
SUMMARY:Municipal Court 
URL:https://bunkerhilltx.gov/event/2087-municipal-court
END:VEVENT
END:VCALENDAR
