BEGIN:VCALENDAR
VERSION:2.0
PRODID:-//https://bunkerhilltx.gov///NONSGML kigkonsult.se iCalcreator 2.10.15//
METHOD:PUBLISH
BEGIN:VEVENT
UID:20260420T235241UTC-2848l4dHhw@https://bunkerhilltx.gov/
DTSTAMP:20260420T235241Z
DESCRIPTION:The Memorial Villages Police Commission typically meets on the 
 second Monday of each month at the Police Station starting at 6:00 pm.&nbs
 p\; Meeting Agendas are posted 72 hours in advance of the meeting.&nbsp\; 
 Please check the Memorial Police Department website at http://www.mvpdtx.o
 rg/&nbsp\;to confirm the meeting date\, time and to access the agenda.\n&n
 bsp\; https://bunkerhilltx.gov/event/610-memorial-villages-police-commissi
 on-meeting
DTSTART:20230214T000000Z
DTEND:20230214T020000Z
LOCATION:Memorial Villages Police Department (11981 Memorial Drive\, Housto
 n\, TX 77024\, USA)
SUMMARY:Memorial Villages Police Commission Meeting
URL:https://bunkerhilltx.gov/event/610-memorial-villages-police-commission-
 meeting
END:VEVENT
BEGIN:VEVENT
UID:20260420T235241UTC-2849Fs0f2R@https://bunkerhilltx.gov/
DTSTAMP:20260420T235241Z
DESCRIPTION:Please join us at the Memorial Villages Farmers Market each Sat
 urday. \nThe market is held from 9 am - 1 pm. \nWe look forward to seeing 
 you there!\nPlease click here to go to the Memorial Villages Farmers Marke
 t Website for more details. https://bunkerhilltx.gov/event/1610-villages-f
 armers-market
DTSTART;VALUE=DATE:20230218
LOCATION:First Congregational Church--Houston  (10840 Beinhorn Rd\, Houston
 \, TX 77024\, USA)
SUMMARY:Villages Farmers Market
URL:https://bunkerhilltx.gov/event/1610-villages-farmers-market
END:VEVENT
BEGIN:VEVENT
UID:20260420T235241UTC-2850etUAhd@https://bunkerhilltx.gov/
DTSTAMP:20260420T235241Z
DESCRIPTION: https://bunkerhilltx.gov/event/1999-city-hall-open-until-5-00-
 p-m-for-election-purposes-only
DTSTART:20230217T130000Z
DTEND:20230217T230000Z
LOCATION:Bunker Hill City Hall  (11977 Memorial Dr\, Houston\, TX 77024\, U
 SA)
SUMMARY:City Hall Open until 5:00 p.m. for Election Purposes Only 
URL:https://bunkerhilltx.gov/event/1999-city-hall-open-until-5-00-p-m-for-e
 lection-purposes-only
END:VEVENT
END:VCALENDAR
