BEGIN:VCALENDAR
VERSION:2.0
PRODID:-//https://bunkerhilltx.gov///NONSGML kigkonsult.se iCalcreator 2.10.15//
METHOD:PUBLISH
BEGIN:VEVENT
UID:20260421T025348UTC-9681TEnAOv@https://bunkerhilltx.gov/
DTSTAMP:20260421T025348Z
DESCRIPTION:Please join us at the Memorial Villages Farmers Market each Sat
 urday. \nThe market is held from 9 am - 1 pm. \nWe look forward to seeing 
 you there!\nPlease click here to go to the Memorial Villages Farmers Marke
 t Website for more details. https://bunkerhilltx.gov/event/1608-villages-f
 armers-market
DTSTART;VALUE=DATE:20230204
LOCATION:First Congregational Church--Houston  (10840 Beinhorn Rd\, Houston
 \, TX 77024\, USA)
SUMMARY:Villages Farmers Market
URL:https://bunkerhilltx.gov/event/1608-villages-farmers-market
END:VEVENT
BEGIN:VEVENT
UID:20260421T025348UTC-9682k5EuBo@https://bunkerhilltx.gov/
DTSTAMP:20260421T025348Z
DESCRIPTION:City Hall will be closed Thursday and Friday to allow year end 
 records filing and clean up.&nbsp\; Construction inspectors will still wor
 k normal hours and schedule. https://bunkerhilltx.gov/event/2003-year-end-
 records-clean-up-and-filing
DTSTART;VALUE=DATE:20230202
LOCATION:City of Bunker Hill Village City Hall (11977 Memorial Drive\, Hous
 ton\, TX 77024\, USA)
SUMMARY:City Hall Closed - Year End Records Clean Up and Filing
URL:https://bunkerhilltx.gov/event/2003-year-end-records-clean-up-and-filin
 g
END:VEVENT
BEGIN:VEVENT
UID:20260421T025348UTC-9683a04bbs@https://bunkerhilltx.gov/
DTSTAMP:20260421T025348Z
DESCRIPTION:City Hall will be closed Thursday and Friday to allow year end 
 records filing and clean up.&nbsp\; Construction inspectors will still wor
 k normal hours and schedule. https://bunkerhilltx.gov/event/2004-year-end-
 records-clean-up-and-filing
DTSTART;VALUE=DATE:20230203
LOCATION:City of Bunker Hill Village City Hall (11977 Memorial Drive\, Hous
 ton\, TX 77024\, USA)
SUMMARY:City Hall Closed - Year End Records Clean Up and Filing
URL:https://bunkerhilltx.gov/event/2004-year-end-records-clean-up-and-filin
 g
END:VEVENT
BEGIN:VEVENT
UID:20260421T025348UTC-9683LWUsS3@https://bunkerhilltx.gov/
DTSTAMP:20260421T025348Z
DESCRIPTION:&nbsp\;\nThe Mayor\, City Council\, Staff and Committees invite
  all residents to an Open House at City Hall on Wednesday\, February 1\, 2
 023&nbsp\;from 5:30 p.m. to 6:30 p.m.\nCome visit with our Mayor\, Staff\,
  Commissioners and share any concerns regarding our Public Safety Departme
 nts as well as trash and recycling services. Our goal is to gather informa
 tion as we move forward into the new year.\n&nbsp\;\n&nbsp\;Notice of Poss
 ible Quorum https://bunkerhilltx.gov/event/2008-public-safety-open-house
DTSTART:20230201T233000Z
DTEND:20230202T003000Z
LOCATION:City of Bunker Hill Village City Hall (11977 Memorial Drive\, Hous
 ton\, TX 77024\, USA)
SUMMARY:Public Safety Open House 
URL:https://bunkerhilltx.gov/event/2008-public-safety-open-house
END:VEVENT
END:VCALENDAR
