BEGIN:VCALENDAR
VERSION:2.0
PRODID:-//https://bunkerhilltx.gov///NONSGML kigkonsult.se iCalcreator 2.10.15//
METHOD:PUBLISH
BEGIN:VEVENT
UID:20260421T042653UTC-5970sj7w5l@https://bunkerhilltx.gov/
DTSTAMP:20260421T042653Z
DESCRIPTION:The&nbsp\; Village Fire Commission typically meets&nbsp\;on the
  fourth Wednesday&nbsp\;of each month at the Fire Station starting at 6:00
  pm.&nbsp\; Meeting Agendas are posted 72 hours in advance of the meeting.
 &nbsp\; Please check the&nbsp\;Village Fire&nbsp\;Department website at&nb
 sp\;http://villagefire.org/&nbsp\;&nbsp\;to confirm meeting date\, time an
 d to access the agenda. https://bunkerhilltx.gov/event/501-village-fire-co
 mmission-meeting
DTSTART:20230126T000000Z
DTEND:20230126T020000Z
LOCATION:Village Fire Department  (901 Corbindale Road\, Houston\, TX 77024
 \, USA)
SUMMARY:Village Fire Commission Meeting
URL:https://bunkerhilltx.gov/event/501-village-fire-commission-meeting
END:VEVENT
BEGIN:VEVENT
UID:20260421T042653UTC-5971PtbjmV@https://bunkerhilltx.gov/
DTSTAMP:20260421T042653Z
DESCRIPTION:Please join us at the Memorial Villages Farmers Market each Sat
 urday. \nThe market is held from 9 am - 1 pm. \nWe look forward to seeing 
 you there!\nPlease click here to go to the Memorial Villages Farmers Marke
 t Website for more details. https://bunkerhilltx.gov/event/1607-villages-f
 armers-market
DTSTART;VALUE=DATE:20230128
LOCATION:First Congregational Church--Houston  (10840 Beinhorn Rd\, Houston
 \, TX 77024\, USA)
SUMMARY:Villages Farmers Market
URL:https://bunkerhilltx.gov/event/1607-villages-farmers-market
END:VEVENT
BEGIN:VEVENT
UID:20260421T042653UTC-5972LdXXpg@https://bunkerhilltx.gov/
DTSTAMP:20260421T042653Z
DESCRIPTION:THE PLANNING AND ZONING COMMISSION OF THE CITY OF BUNKER HILL V
 ILLAGE\, TEXAS\, WILL MEET ON TUESDAY\, JANUARY 24\, 2023 AT 11:30 A.M. BU
 NKER HILL VILLAGE CITY HALL COUNCIL CHAMBERS\, 11977 MEMORIAL DRIVE.&nbsp\
 ;\nAgenda\nAgenda Packet:\nItem III -&nbsp\; Preliminary Plat for 8 Valley
  Forge\nMinutes for October 25\, 2022\n&nbsp\;\nJoin Zoom Meeting\nhttps:/
 /us06web.zoom.us/j/87155107313?pwd=RjdCVnpLalV4U2doY2k4LzZ1SFdoQT09\nMeeti
 ng ID: 871 5510 7313\nPasscode: 828664\nDial by your location\n+1 346 248 
 7799 US (Houston)\n&nbsp\;\nThe public will be permitted to offer public c
 omments by video conference as provided by the agenda and as permitted by 
 the presiding officer during the meeting.&nbsp\; A recording of the meetin
 g will be made and will be available to the public in accordance with the 
 Open Meetings Act upon written request.\n&nbsp\; https://bunkerhilltx.gov/
 event/2002-planning-and-zoning-commission-meeting
DTSTART:20230124T173000Z
DTEND:20230124T190000Z
LOCATION:BUNKER HILL CITY HALL (11977 Memorial Dr\, Houston\, TX 77024\, US
 A)
SUMMARY:Planning and Zoning Commission Meeting 
URL:https://bunkerhilltx.gov/event/2002-planning-and-zoning-commission-meet
 ing
END:VEVENT
BEGIN:VEVENT
UID:20260421T042653UTC-5973AG0cMj@https://bunkerhilltx.gov/
DTSTAMP:20260421T042653Z
DESCRIPTION:Court dockets are posted 48 hours prior to court date and are s
 ubject to change without notice.\nDocket\nAll court appearances are via Zo
 om until further notice.&nbsp\; Please click the link below to schedule yo
 ur court appearance if you have not done so already.&nbsp\; If you do not 
 have a smart device to participate via zoom\, there is a terminal availabl
 e at Bunker Hill City Hall lobby for your use.&nbsp\; Only one person at a
  time is allowed in the building to use the lobby terminal. If you arrive 
 early\, you may text the Court Administrator at 713-467-9762 for further i
 nstructions.\nLINK TO SCHEDULE COURT APPOINTMENTS AND ZOOM APPEARANCES\nPe
 rsons charged with an expired driver's license\, expired motor vehicle ins
 pection or expired motor vehicle registration\, that has not been expired 
 more than sixty days and corrected it within twenty working days of the da
 te of the citation or date of your first appearance which ever comes first
  and have proof that it has been corrected\, may present proof prior to yo
 ur court date at the clerks office or appear in court to see the judge for
  consideration under the law for dismissal and if dismissed a $20.00 admin
 istrative fee will be paid to the court clerk. If you have been charged wi
 th failure to provide proof of financial responsibility and you did have i
 nsurance on the day you received the citation\, show the proof to the cour
 t. If it is correct\, that case will be dismissed. There is no administrat
 ive fee for financial responsibility.\n&nbsp\;\nPlease see&nbsp\;Municipal
  Court information here\, or&nbsp\;search online here\n&nbsp\; https://bun
 kerhilltx.gov/event/2005-municipal-court-morning-docket
DTSTART:20230126T160000Z
DTEND:20230126T180000Z
LOCATION:City of Bunker Hill Village City Hall (11977 Memorial Drive\, Hous
 ton\, TX 77024\, USA)
SUMMARY:Municipal Court 
URL:https://bunkerhilltx.gov/event/2005-municipal-court-morning-docket
END:VEVENT
BEGIN:VEVENT
UID:20260421T042653UTC-5974eLVUKS@https://bunkerhilltx.gov/
DTSTAMP:20260421T042653Z
DESCRIPTION:Court dockets are posted 48 hours prior to court date and are s
 ubject to change without notice.\nDocket\nAll court appearances are via Zo
 om until further notice.&nbsp\; Please click the link below to schedule yo
 ur court appearance if you have not done so already.&nbsp\; If you do not 
 have a smart device to participate via zoom\, there is a terminal availabl
 e at Bunker Hill City Hall lobby for your use.&nbsp\; Only one person at a
  time is allowed in the building to use the lobby terminal. If you arrive 
 early\, you may text the Court Administrator at 713-467-9762 for further i
 nstructions.\nLINK TO SCHEDULE COURT APPOINTMENTS AND ZOOM APPEARANCES\nPe
 rsons charged with an expired driver's license\, expired motor vehicle ins
 pection or expired motor vehicle registration\, that has not been expired 
 more than sixty days and corrected it within twenty working days of the da
 te of the citation or date of your first appearance which ever comes first
  and have proof that it has been corrected\, may present proof prior to yo
 ur court date at the clerks office or appear in court to see the judge for
  consideration under the law for dismissal and if dismissed a $20.00 admin
 istrative fee will be paid to the court clerk. If you have been charged wi
 th failure to provide proof of financial responsibility and you did have i
 nsurance on the day you received the citation\, show the proof to the cour
 t. If it is correct\, that case will be dismissed. There is no administrat
 ive fee for financial responsibility.\n&nbsp\;\nPlease see&nbsp\;Municipal
  Court information here\, or&nbsp\;search online here\n&nbsp\; https://bun
 kerhilltx.gov/event/2006-municipal-court-afternoon-docket
DTSTART:20230126T200000Z
DTEND:20230126T220000Z
LOCATION:City of Bunker Hill Village City Hall (11977 Memorial Drive\, Hous
 ton\, TX 77024\, USA)
SUMMARY:Municipal Court 
URL:https://bunkerhilltx.gov/event/2006-municipal-court-afternoon-docket
END:VEVENT
END:VCALENDAR
