BEGIN:VCALENDAR
VERSION:2.0
PRODID:-//https://bunkerhilltx.gov///NONSGML kigkonsult.se iCalcreator 2.10.15//
METHOD:PUBLISH
BEGIN:VEVENT
UID:20260421T055037UTC-3413EPUw4w@https://bunkerhilltx.gov/
DTSTAMP:20260421T055037Z
DESCRIPTION:Please join us at the Memorial Villages Farmers Market each Sat
 urday. \nThe market is held from 9 am - 1 pm. \nWe look forward to seeing 
 you there!\nPlease click here to go to the Memorial Villages Farmers Marke
 t Website for more details. https://bunkerhilltx.gov/event/1606-villages-f
 armers-market
DTSTART;VALUE=DATE:20230121
LOCATION:First Congregational Church--Houston  (10840 Beinhorn Rd\, Houston
 \, TX 77024\, USA)
SUMMARY:Villages Farmers Market
URL:https://bunkerhilltx.gov/event/1606-villages-farmers-market
END:VEVENT
BEGIN:VEVENT
UID:20260421T055037UTC-3414rgsUNn@https://bunkerhilltx.gov/
DTSTAMP:20260421T055037Z
DESCRIPTION:NOTICE OF MEETING BY TELEPHONE AND VIDEO CONFERENCE:\nIn accord
 ance with Texas Government Code\, Sec. 551.127\, on a regular\, non-emerge
 ncy basis\, Councilmembers may attend and participate in a meeting remotel
 y by video conference.&nbsp\; Should such attendance transpire\, a quorum 
 of the Council will be physically present at the location noted&nbsp\; on 
 this agenda.\nPlease note this Meeting will begin at 5:00 with a Closed Ex
 ecutive Session&nbsp\;\nCouncil Agenda\nAgenda Packet:\nItems&nbsp\;IV - X
 VIII\nConsent Agenda\n&nbsp\;\nThe public will be able to observe and part
 icipate in the meeting as follows:\nJoin Zoom Meeting\nhttps://us06web.zoo
 m.us/j/86044447913?pwd=U0kzMmkrN0JyZjZlRzhJMllaUVppUT09\nMeeting ID: 860 4
 444 7913\nPasscode: 918172\nDial by your location\n+1 346 248 7799 US (Hou
 ston)\nThe public will be permitted to offer public comments by video conf
 erence as provided by the agenda and as permitted by the presiding officer
  during the meeting.&nbsp\; A recording of the meeting will be made\, and 
 will be available to the public in accordance with the Open Meetings Act u
 pon written request.\n&nbsp\; https://bunkerhilltx.gov/event/1994-city-cou
 ncil-meeting
DTSTART:20230117T230000Z
DTEND:20230118T010000Z
LOCATION:City of Bunker Hill Village City Hall (11977 Memorial Drive\, Hous
 ton\, TX 77024\, USA)
SUMMARY:City Council Meeting
URL:https://bunkerhilltx.gov/event/1994-city-council-meeting
END:VEVENT
END:VCALENDAR
