BEGIN:VCALENDAR
VERSION:2.0
PRODID:-//https://bunkerhilltx.gov///NONSGML kigkonsult.se iCalcreator 2.10.15//
METHOD:PUBLISH
BEGIN:VEVENT
UID:20260421T134714UTC-6228W91bo2@https://bunkerhilltx.gov/
DTSTAMP:20260421T134714Z
DESCRIPTION:Court dockets are posted 48 hours prior to court date and are s
 ubject to change without notice.\nClick on the link to Download - View the
  Docket&nbsp\;\nThe October 12th Court will include two dockets - one will
  begin at 3:00 and the second will begin at 4:00.&nbsp\; \nOpen Court - Ar
 raignments and Trials begin promptly at the time indicated on the citation
 .&nbsp\;Court is estimated to be approximately 2 hours\; however\, actual 
 time&nbsp\; is based on the final docket&nbsp\;as well as&nbsp\;individual
 &nbsp\;discussion time needed.for the Prosecutor and the Presiding Judge.&
 nbsp\;Court will end when the Judge has completed the process for&nbsp\;al
 l defendents present.\nThe Judge&nbsp\;will address the court and give ins
 tructions. Please be sure to turn off all beepers and telephones before en
 tering the courtroom. Weapons on any kind are not allowed in the building 
 that houses the courtroom.\nPersons who have been charged\, may enter thei
 r plea on the charge in one of three ways:\n\nGuilty&nbsp\;(pay the fine a
 nd costs)\nNot Guilty&nbsp\;(You are requesting a trial. You must see the 
 prosecutor before leaving the building to get a trial date and time.)\nNol
 o Contendre&nbsp\;(no contest) You have opted to not contest the charge an
 d the punishment is at the discretion of the court\n\nPersons charged with
  an expired driver's license\, expired motor vehicle inspection or expired
  motor vehicle registration\, that has not been expired more than sixty da
 ys and corrected it within twenty working days of the date of the citation
  or date of your first appearance which ever comes first and have proof th
 at it has been corrected\, may present proof prior to your court date at t
 he clerks office or appear in court to see the judge for consideration und
 er the law for dismissal and if dismissed a $20.00 administrative fee will
  be paid to the court clerk. If you have been charged with failure to prov
 ide proof of financial responsibility and you did have insurance on the da
 y you received the citation\, show the proof to the court. If it is correc
 t\, that case will be dismissed. There is no administrative fee for financ
 ial responsibility.\nNote: Only the judge can dismiss tickets. If you have
  a ticket that you might want to try to get dismissed\, you have to show i
 t to the judge on your arraignment night.\nPlease see&nbsp\;Municipal Cour
 t information here\, or&nbsp\;search online here\nMunicipal Court is typic
 ally&nbsp\;held&nbsp\;on Mondays.&nbsp\; Please check your ticket for the 
 date and time. https://bunkerhilltx.gov/event/41-municipal-court
DTSTART:20151012T213000Z
DTEND:20151012T230000Z
LOCATION:City of Bunker Hill Village City Hall (11977 Memorial Drive\, Hous
 ton\, TX 77024\, USA)
SUMMARY:Municipal Court
URL:https://bunkerhilltx.gov/event/41-municipal-court
END:VEVENT
END:VCALENDAR
