BEGIN:VCALENDAR
VERSION:2.0
PRODID:-//https://bunkerhilltx.gov///NONSGML kigkonsult.se iCalcreator 2.10.15//
METHOD:PUBLISH
BEGIN:VEVENT
UID:20260422T095829UTC-0017pV6Zrj@https://bunkerhilltx.gov/
DTSTAMP:20260422T095829Z
DESCRIPTION: https://bunkerhilltx.gov/event/2153-mvpd-music-bingo
DTSTART:20240913T230000Z
DTEND:20240914T020000Z
LOCATION:11140 Greenbay St\, Houston\, TX 77024 (Chapelwood United Methodis
 t Church) ()
SUMMARY:MVPD Music Bingo 
URL:https://bunkerhilltx.gov/event/2153-mvpd-music-bingo
END:VEVENT
END:VCALENDAR
