BEGIN:VCALENDAR
VERSION:2.0
PRODID:-//https://bunkerhilltx.gov///NONSGML kigkonsult.se iCalcreator 2.10.15//
METHOD:PUBLISH
BEGIN:VEVENT
UID:20260420T123743UTC-4575Je5ujK@https://bunkerhilltx.gov/
DTSTAMP:20260420T123743Z
DESCRIPTION:Agendas are posted 72 hours prior to the meetings. Minutes of t
 he meetings are available following approval.&nbsp\;\nAgenda\n------------
 --------------------------------------------------------------------------
 ----------------------------------------------------------\nJoin Zoom Meet
 ing\nhttps://us06web.zoom.us/j/85856949173?pwd=IfZNZMzkZoZUQxb4Xvg1MHSVpJ9
 vg8.1\nMeeting ID:&nbsp\;858 5694 9173\nPasscode:&nbsp\;487813\nDial by yo
 ur location:&nbsp\;+1 346 248 7799 US (Houston)\nThe public will be permit
 ted to offer public comments by video conference as provided by the agenda
  and as permitted by the presiding officer during the meeting. A recording
  of the meeting will be made and will be available to the public in accord
 ance with the Open Meetings Act upon written request.\n\n\n&nbsp\; https:/
 /bunkerhilltx.gov/event/2152-zoning-board-of-adjustment-meeting
DTSTART:20240828T220000Z
DTEND:20240829T000000Z
LOCATION:City of Bunker Hill Village City Hall (11977 Memorial Drive\, Hous
 ton\, TX 77024\, USA)
SUMMARY:Zoning Board of Adjustment Meeting 
URL:https://bunkerhilltx.gov/event/2152-zoning-board-of-adjustment-meeting
END:VEVENT
END:VCALENDAR
