BEGIN:VCALENDAR
VERSION:2.0
PRODID:-//https://bunkerhilltx.gov///NONSGML kigkonsult.se iCalcreator 2.10.15//
METHOD:PUBLISH
BEGIN:VEVENT
UID:20260420T181538UTC-5183sm6L5s@https://bunkerhilltx.gov/
DTSTAMP:20260420T181538Z
DESCRIPTION:NOTICE OF MEETING BY TELEPHONE AND VIDEO CONFERENCE:\nIn accord
 ance with Texas Government Code\, Sec. 551.127\, on a regular\, non-emerge
 ncy basis\, Directors may attend and participate in a meeting remotely by 
 video conference.&nbsp\; Should such attendance transpire\, a quorum of th
 e Board of Directors will be physically present at the location noted abov
 e on this agenda.&nbsp\;\nAgenda\nBylaws\n&nbsp\;\nThe public will be able
  to observe and participate in the meeting as follows:\nJoin Zoom Meeting
 \nhttps://us06web.zoom.us/j/83679573436?pwd=RXhQL3lORnFaREw2Q0VaSi9EZ3FRQT
 09\nMeeting ID: 836 7957 3436\nPasscode: 563898\nDial by your location\n+1
  346 248 7799 US (Houston)\nMeeting ID: 836 7957 3436\n&nbsp\;\nThe public
  will be permitted to offer public comments by video conference as provide
 d by the agenda and as permitted by the presiding officer during the meeti
 ng.&nbsp\; A recording of the meeting will be made\, and will be available
  to the public in accordance with the Open Meetings Act upon written reque
 st.\n&nbsp\; https://bunkerhilltx.gov/event/2014-bhv-inc-meeting-4-30-p-m
DTSTART:20230321T213000Z
DTEND:20230321T220000Z
LOCATION:Bunker Hill City Hall  (11977 Memorial Dr\, Houston\, TX 77024\, U
 SA)
SUMMARY:BHV\, Inc. Meeting 4:30 p.m.
URL:https://bunkerhilltx.gov/event/2014-bhv-inc-meeting-4-30-p-m
END:VEVENT
END:VCALENDAR
