BEGIN:VCALENDAR
VERSION:2.0
PRODID:-//https://bunkerhilltx.gov///NONSGML kigkonsult.se iCalcreator 2.10.15//
METHOD:PUBLISH
BEGIN:VEVENT
UID:20260420T235201UTC-4109IDlh7P@https://bunkerhilltx.gov/
DTSTAMP:20260420T235201Z
DESCRIPTION:NOTICE OF MEETING BY TELEPHONE AND VIDEO CONFERENCE:\nIn accord
 ance with Texas Government Code\, Sec. 551.127\, on a regular\, non-emerge
 ncy basis\, Councilmembers may attend and participate in a meeting remotel
 y by video conference.&nbsp\; Should such attendance transpire\, a quorum 
 of the Council will be physically present at the location noted&nbsp\; on 
 this agenda.\n&nbsp\;\nCouncil Agenda\nAgenda Packet:\nItems&nbsp\;IV - XV
 \nFinal Plat for 8 Valley Forge\nConsent Agenda\n&nbsp\;\nThe public will 
 be able to observe and participate in the meeting as follows:\nJoin Zoom M
 eeting\nhttps://us06web.zoom.us/j/85620283651?pwd=WTdBTHlYeXdlT2NWV0ZzKzlI
 TmpRQT09\nMeeting ID: 856 2028 3651\nPasscode: 252473\nDial by your locati
 on\n+1 346 248 7799 US (Houston)\nThe public will be permitted to offer pu
 blic comments by video conference as provided by the agenda and as permitt
 ed by the presiding officer during the meeting.&nbsp\; A recording of the 
 meeting will be made\, and will be available to the public in accordance w
 ith the Open Meetings Act upon written request. https://bunkerhilltx.gov/e
 vent/2009-city-council-meeting-5-00-p-m
DTSTART:20230221T230000Z
DTEND:20230222T020000Z
LOCATION:Bunker Hill City Hall  (11977 Memorial Dr\, Houston\, TX 77024\, U
 SA)
SUMMARY:City Council Meeting 5:00 p.m.
URL:https://bunkerhilltx.gov/event/2009-city-council-meeting-5-00-p-m
END:VEVENT
END:VCALENDAR
