BEGIN:VCALENDAR
VERSION:2.0
PRODID:-//https://bunkerhilltx.gov///NONSGML kigkonsult.se iCalcreator 2.10.15//
METHOD:PUBLISH
BEGIN:VEVENT
UID:20260421T041901UTC-1655DkSbZ7@https://bunkerhilltx.gov/
DTSTAMP:20260421T041901Z
DESCRIPTION:&nbsp\;\nThe Mayor\, City Council\, Staff and Committees invite
  all residents to an Open House at City Hall on Wednesday\, February 1\, 2
 023&nbsp\;from 5:30 p.m. to 6:30 p.m.\nCome visit with our Mayor\, Staff\,
  Commissioners and share any concerns regarding our Public Safety Departme
 nts as well as trash and recycling services. Our goal is to gather informa
 tion as we move forward into the new year.\n&nbsp\;\n&nbsp\;Notice of Poss
 ible Quorum https://bunkerhilltx.gov/event/2008-public-safety-open-house
DTSTART:20230201T233000Z
DTEND:20230202T003000Z
LOCATION:City of Bunker Hill Village City Hall (11977 Memorial Drive\, Hous
 ton\, TX 77024\, USA)
SUMMARY:Public Safety Open House 
URL:https://bunkerhilltx.gov/event/2008-public-safety-open-house
END:VEVENT
END:VCALENDAR
