BEGIN:VCALENDAR
VERSION:2.0
PRODID:-//https://bunkerhilltx.gov///NONSGML kigkonsult.se iCalcreator 2.10.15//
METHOD:PUBLISH
BEGIN:VEVENT
UID:20260420T234855UTC-3352PWTJAN@https://bunkerhilltx.gov/
DTSTAMP:20260420T234855Z
DESCRIPTION:THE PLANNING AND ZONING COMMISSION OF THE CITY OF BUNKER HILL V
 ILLAGE\, TEXAS\, WILL MEET ON TUESDAY\, FEBRUARY 21\, 2023 AT 11:30 A.M. B
 UNKER HILL VILLAGE CITY HALL COUNCIL CHAMBERS\, 11977 MEMORIAL DRIVE.&nbsp
 \;\nAgenda\nAgenda Packet:\nItem III -&nbsp\; Final&nbsp\;&nbsp\;Plat for 
 8 Valley Forge\nMinutes for January 24\, 203\n&nbsp\;\nJoin Zoom Meeting\n
 https://us06web.zoom.us/j/84647343754?pwd=ZkJkaGZVN3RNQ281YnJJVTBtbkpkQT09
 \nMeeting ID: 846 4734 3754\nPasscode: 963988\nDial by your location\n&nbs
 p\;&nbsp\;&nbsp\;&nbsp\;&nbsp\;&nbsp\;&nbsp\; +1 346 248 7799 US (Houston)
 \n&nbsp\;\nThe public will be permitted to offer public comments by video 
 conference as provided by the agenda and as permitted by the presiding off
 icer during the meeting.&nbsp\; A recording of the meeting will be made an
 d will be available to the public in accordance with the Open Meetings Act
  upon written request.\n&nbsp\; https://bunkerhilltx.gov/event/2007-planni
 ng-and-zoning-commission-meeting
DTSTART:20230221T173000Z
DTEND:20230221T190000Z
LOCATION:BUNKER HILL CITY HALL (11977 Memorial Dr\, Houston\, TX 77024\, US
 A)
SUMMARY:Planning and Zoning Commission Meeting 
URL:https://bunkerhilltx.gov/event/2007-planning-and-zoning-commission-meet
 ing
END:VEVENT
END:VCALENDAR
