BEGIN:VCALENDAR
VERSION:2.0
PRODID:-//https://bunkerhilltx.gov///NONSGML kigkonsult.se iCalcreator 2.10.15//
METHOD:PUBLISH
BEGIN:VEVENT
UID:20260421T060133UTC-0381N640Cd@https://bunkerhilltx.gov/
DTSTAMP:20260421T060133Z
DESCRIPTION:THE PLANNING AND ZONING COMMISSION OF THE CITY OF BUNKER HILL V
 ILLAGE\, TEXAS\, WILL MEET ON TUESDAY\, JANUARY 24\, 2023 AT 11:30 A.M. BU
 NKER HILL VILLAGE CITY HALL COUNCIL CHAMBERS\, 11977 MEMORIAL DRIVE.&nbsp\
 ;\nAgenda\nAgenda Packet:\nItem III -&nbsp\; Preliminary Plat for 8 Valley
  Forge\nMinutes for October 25\, 2022\n&nbsp\;\nJoin Zoom Meeting\nhttps:/
 /us06web.zoom.us/j/87155107313?pwd=RjdCVnpLalV4U2doY2k4LzZ1SFdoQT09\nMeeti
 ng ID: 871 5510 7313\nPasscode: 828664\nDial by your location\n+1 346 248 
 7799 US (Houston)\n&nbsp\;\nThe public will be permitted to offer public c
 omments by video conference as provided by the agenda and as permitted by 
 the presiding officer during the meeting.&nbsp\; A recording of the meetin
 g will be made and will be available to the public in accordance with the 
 Open Meetings Act upon written request.\n&nbsp\; https://bunkerhilltx.gov/
 event/2002-planning-and-zoning-commission-meeting
DTSTART:20230124T173000Z
DTEND:20230124T190000Z
LOCATION:BUNKER HILL CITY HALL (11977 Memorial Dr\, Houston\, TX 77024\, US
 A)
SUMMARY:Planning and Zoning Commission Meeting 
URL:https://bunkerhilltx.gov/event/2002-planning-and-zoning-commission-meet
 ing
END:VEVENT
END:VCALENDAR
