BEGIN:VCALENDAR
VERSION:2.0
PRODID:-//https://bunkerhilltx.gov///NONSGML kigkonsult.se iCalcreator 2.10.15//
METHOD:PUBLISH
BEGIN:VEVENT
UID:20260420T095716UTC-0669AgiNS5@https://bunkerhilltx.gov/
DTSTAMP:20260420T095716Z
DESCRIPTION:May 6\, 2023 Election Cancelled&nbsp\;\nInternet Posting Requir
 ements for Political Subdivisions\n https://bunkerhilltx.gov/event/2001-el
 ection-day
DTSTART;VALUE=DATE:20230506
LOCATION:City of Bunker Hill Village City Hall (11977 Memorial Drive\, Hous
 ton\, TX 77024\, USA)
SUMMARY:Election Day - City Election Cancelled
URL:https://bunkerhilltx.gov/event/2001-election-day
END:VEVENT
END:VCALENDAR
