BEGIN:VCALENDAR
VERSION:2.0
PRODID:-//https://bunkerhilltx.gov///NONSGML kigkonsult.se iCalcreator 2.10.15//
METHOD:PUBLISH
BEGIN:VEVENT
UID:20260423T112306UTC-67234EHmj6@https://bunkerhilltx.gov/
DTSTAMP:20260423T112306Z
DESCRIPTION:&nbsp\;\nThe City will host a special tree pick up for green re
 cycling on Saturday\, January 7\, 2023.&nbsp\; Please have your tree place
 d at the curby by 7:00 a.m. free from all decorations!\n&nbsp\;\nThank you
 !!! https://bunkerhilltx.gov/event/1996-special-christmas-tree-pick-up-day
DTSTART:20230107T130000Z
DTEND:20230107T200000Z
LOCATION:City of Bunker Hill Village City Hall (11977 Memorial Drive\, Hous
 ton\, TX 77024\, USA)
SUMMARY:Special Christmas Tree Pick Up Day!
URL:https://bunkerhilltx.gov/event/1996-special-christmas-tree-pick-up-day
END:VEVENT
END:VCALENDAR
