BEGIN:VCALENDAR
VERSION:2.0
PRODID:-//https://bunkerhilltx.gov///NONSGML kigkonsult.se iCalcreator 2.10.15//
METHOD:PUBLISH
BEGIN:VEVENT
UID:20260423T162428UTC-8463gVnH4V@https://bunkerhilltx.gov/
DTSTAMP:20260423T162428Z
DESCRIPTION:The City Council holds its regular meetings on the third Tuesda
 y of every month at 5:30 p.m\, unless otherwise noted.\nClick Here to view
  the agenda.\n&nbsp\;\nThe agendas are posted on the website 72 hours prio
 r to the meetings. Minutes of the meetings are also posted on the website 
 after approval by the City Council.\n&nbsp\; https://bunkerhilltx.gov/even
 t/1995-special-city-council-meeting
DTSTART:20221206T140000Z
DTEND:20221206T160000Z
LOCATION:City of Bunker Hill Village City Hall (11977 Memorial Drive\, Hous
 ton\, TX 77024\, USA)
SUMMARY:Special City Council Meeting 
URL:https://bunkerhilltx.gov/event/1995-special-city-council-meeting
END:VEVENT
END:VCALENDAR
