BEGIN:VCALENDAR
VERSION:2.0
PRODID:-//https://bunkerhilltx.gov///NONSGML kigkonsult.se iCalcreator 2.10.15//
METHOD:PUBLISH
BEGIN:VEVENT
UID:20260423T114458UTC-87472RM5wK@https://bunkerhilltx.gov/
DTSTAMP:20260423T114458Z
DESCRIPTION:City Hall is closed.\nThere will be no interruption in trash an
 d recycling service\; however\, service may run later than usual with exce
 ss holiday volume.&nbsp\; We encourage you to place yard waste out on your
  second collection day of the week (Thursday/Friday) between December 26th
  and January 7th.   \nFor any emergencies\, you can call the City Hall num
 ber at 713-467-9762 and select '9' to be connected to the Memorial Village
 s Police Department.&nbsp\; They will dispatch our staff.\nHave a nice hol
 iday!\nThank you and Merry Christmas and Happy New Year!! https://bunkerhi
 lltx.gov/event/1992-happy-holidays-city-hall-is-closed-december-26-decembe
 r-30
DTSTART;VALUE=DATE:20221228
LOCATION:City of Bunker Hill Village City Hall (11977 Memorial Drive\, Hous
 ton\, TX 77024\, USA)
SUMMARY:Happy Holidays!   City Hall is Closed December 26 - December 30 - N
 ormal  Recycling Services
URL:https://bunkerhilltx.gov/event/1992-happy-holidays-city-hall-is-closed-
 december-26-december-30
END:VEVENT
END:VCALENDAR
