BEGIN:VCALENDAR
VERSION:2.0
PRODID:-//https://bunkerhilltx.gov///NONSGML kigkonsult.se iCalcreator 2.10.15//
METHOD:PUBLISH
BEGIN:VEVENT
UID:20260423T144110UTC-9327GIcPW9@https://bunkerhilltx.gov/
DTSTAMP:20260423T144110Z
DESCRIPTION:Notice is hereby given that members of the City of Bunker Hill 
 Village City Council\, Board of Adjustments\, and Planning and Zoning Comm
 ission in numbers which may constitute a quorum\, may participate in a hol
 iday reception\, to be held at Jonathan's The Rub\, 12505 Memorial Dr #140
 \, Houston\, TX 77024\, Houston\, Texas on Tuesday\, December 13\, 2022 at
  5:30 p.m.&nbsp\; &nbsp\; &nbsp\; &nbsp\; &nbsp\; &nbsp\; &nbsp\; &nbsp\; 
 &nbsp\; &nbsp\; &nbsp\; &nbsp\; &nbsp\; &nbsp\; &nbsp\; &nbsp\; &nbsp\; &n
 bsp\; &nbsp\;\nThis meeting is purely a social meeting at which there will
  be no deliberation\, nor will there be any formal action taken.&nbsp\; Wh
 ile there may be incidental discussion of City business\, the City Council
 \, Board of Adjustments\, and Planning and Zoning Commission will not be d
 eliberating as a governing body of the City of Bunker Hill Village. Any di
 scussion of public business is purely incidental to the social meeting.\n&
 nbsp\;\nSee notice of possible quorum. https://bunkerhilltx.gov/event/1990
 -volunteer-appreciation-reception
DTSTART:20221213T233000Z
DTEND:20221214T013000Z
LOCATION:Jonathon's The Rub  (12505 Memorial Dr #140\, Houston\, TX 77024)
SUMMARY:Volunteer Appreciation Reception 
URL:https://bunkerhilltx.gov/event/1990-volunteer-appreciation-reception
END:VEVENT
END:VCALENDAR
