BEGIN:VCALENDAR
VERSION:2.0
PRODID:-//https://bunkerhilltx.gov///NONSGML kigkonsult.se iCalcreator 2.10.15//
METHOD:PUBLISH
BEGIN:VEVENT
UID:20260420T112833UTC-3787vEHb8F@https://bunkerhilltx.gov/
DTSTAMP:20260420T112833Z
DESCRIPTION:Next City Election - May 7\,&nbsp\; 2022 - Cancelled\nNotice of
  Election\nOrdinance Calling Election&nbsp\;\nOrdiance Cancelling Election
 \nCandidate Information\nCandidates Filed -Final&nbsp\;\nInternet Posting 
 Requirements\n&nbsp\; https://bunkerhilltx.gov/event/1943-election-day-cit
 y-election-cancelled
DTSTART;VALUE=DATE:20220507
LOCATION:City of Bunker Hill Village City Hall (11977 Memorial Drive\, Hous
 ton\, TX 77024\, USA)
SUMMARY:Election Day - City Election Cancelled
URL:https://bunkerhilltx.gov/event/1943-election-day-city-election-cancelle
 d
END:VEVENT
END:VCALENDAR
