BEGIN:VCALENDAR
VERSION:2.0
PRODID:-//https://bunkerhilltx.gov///NONSGML kigkonsult.se iCalcreator 2.10.15//
METHOD:PUBLISH
BEGIN:VEVENT
UID:20260423T113950UTC-2247wlVxuh@https://bunkerhilltx.gov/
DTSTAMP:20260423T113950Z
DESCRIPTION:City Hall will be closed for the New Year's Day Holiday. We wil
 l re-open January 2\, 2023.\n&nbsp\;\nHappy New Year!! https://bunkerhillt
 x.gov/event/1885-happy-new-year-city-hall-will-be-closed-in-observance-of-
 the-new-year-s-day-holiday-normal-trash-services
DTSTART;VALUE=DATE:20221230
LOCATION:City of Bunker Hill Village City Hall (11977 Memorial Drive\, Hous
 ton\, TX 77024\, USA)
SUMMARY:Happy New Year!!!    City Hall will be Closed in Observance of the 
 New Year's Day Holiday\; Normal Trash Services
URL:https://bunkerhilltx.gov/event/1885-happy-new-year-city-hall-will-be-cl
 osed-in-observance-of-the-new-year-s-day-holiday-normal-trash-services
END:VEVENT
END:VCALENDAR
