BEGIN:VCALENDAR
VERSION:2.0
PRODID:-//https://bunkerhilltx.gov///NONSGML kigkonsult.se iCalcreator 2.10.15//
METHOD:PUBLISH
BEGIN:VEVENT
UID:20260424T025705UTC-7850VsLc3U@https://bunkerhilltx.gov/
DTSTAMP:20260424T025705Z
DESCRIPTION:&nbsp\;\nThe Memorial Villages are once again hosting a recycli
 ng event for re-use items and Rx Disposal.&nbsp\; Shredding services will 
 be onsite and the electronic vendor will also be available this year.\nJoi
 n us on Saturday\, October 22 from 8:00 am until 12:00 pm at Hedwig Villag
 e City Hall -&nbsp\;955 Piney Point Road.&nbsp\; Come early to receive a t
 ree!&nbsp\; Trees for Houston will be providing trees for residents.\nClic
 k Here to see what will and will not be accepted.\nThank you!! https://bun
 kerhilltx.gov/event/1876-annual-memorial-villages-recycling-event
DTSTART:20221022T130000Z
DTEND:20221022T170000Z
LOCATION:Hedwig Village City Hall  (955 Piney Point Road)
SUMMARY:Annual Memorial Villages Recycling Event
URL:https://bunkerhilltx.gov/event/1876-annual-memorial-villages-recycling-
 event
END:VEVENT
END:VCALENDAR
