BEGIN:VCALENDAR
VERSION:2.0
PRODID:-//https://bunkerhilltx.gov///NONSGML kigkonsult.se iCalcreator 2.10.15//
METHOD:PUBLISH
BEGIN:VEVENT
UID:20260425T155820UTC-0218odK94C@https://bunkerhilltx.gov/
DTSTAMP:20260425T155820Z
DESCRIPTION:\nDear Residents:\nYour staff has learned a lot this year throu
 gh the pandemic and the winter storm. We are working diligently&nbsp\; to 
 provide responsive customer service and make City Hall 24/7 through our we
 bsite. \nHowever\, we have heard that some of our residents may not be as 
 comfortable with these online services. We hope those of you will join us 
 for a “High Tech/LowTech” Open House in June where our staff and summer in
 terns will set aside time (and computers) to work one-on-one with resident
 s to share this information. We hope you will feel comfortable coming to C
 ity Hall for this Open House.&nbsp\; Please share with your neighbors and 
 let them know.&nbsp\; Feel free to call us at 713-467-9762 and set a speci
 fic time to meet if that would be better for individual situations.\n“High
  Tech/Low Tech” City Hall Open House \nJune 17\, 2021 \n9:00 to 11:00 a.m.
  or 1:00 to 3:00 p.m.\n Join Staff and the City’s Summer Interns in learni
 ng more about the City’s website and online services. \nWe will provide on
 e-on-one time and help you sign up for a variety of services:\n&nbsp\;\n• 
 Register your alarm and be able to note any special conditions that help o
 ur public safety officers should you need us \n• Sign up for an email and 
 v-linc - you will get the Chief’s Friday updates \n• Set up your Water Bil
 l for Auto Pay * \n• Sign up for a House Watch while you are on vacation 
 \n• Sign up for Centerpoint’s Power Alert System \n&nbsp\;\n* * Bring a co
 py of your water and electricity bills and we will step you through the pr
 ocess. Bring your laptop if you have one! https://bunkerhilltx.gov/event/1
 861-high-tech-low-tech-city-hall-open-house
DTSTART:20210617T180000Z
DTEND:20210617T200000Z
LOCATION:Bunker Hill City Hall  (11977 Memorial Dr\, Houston\, TX 77024\, U
 SA)
SUMMARY:“High Tech/Low Tech” City Hall Open House
URL:https://bunkerhilltx.gov/event/1861-high-tech-low-tech-city-hall-open-h
 ouse
END:VEVENT
END:VCALENDAR
