BEGIN:VCALENDAR
VERSION:2.0
PRODID:-//https://bunkerhilltx.gov///NONSGML kigkonsult.se iCalcreator 2.10.15//
METHOD:PUBLISH
BEGIN:VEVENT
UID:20260421T152759UTC-5901RxVGuH@https://bunkerhilltx.gov/
DTSTAMP:20260421T152759Z
DESCRIPTION:Court dockets are posted 48 hours prior to court date and are s
 ubject to change without notice.\nDocket for&nbsp\;January 21\, 2021.\nAll
  court appearances are via Zoom until further notice.&nbsp\; Please click 
 the link below to schedule your court appearance if you have not done so a
 lready.&nbsp\; If you do not have a smart device to participate via zoom\,
  there is a terminal available at Bunker Hill City Hall lobby for your use
 .&nbsp\; Only one person at a time is allowed in the building to use the l
 obby terminal. If you arrive early\, you may text the Court Administrator 
 at 713-467-9762 for further instructions.\nLINK TO SCHEDULE COURT APPOINTM
 ENTS AND ZOOM APPEARANCES\nPersons charged with an expired driver's licens
 e\, expired motor vehicle inspection or expired motor vehicle registration
 \, that has not been expired more than sixty days and corrected it within 
 twenty working days of the date of the citation or date of your first appe
 arance which ever comes first and have proof that it has been corrected\, 
 may present proof prior to your court date at the clerks office or appear 
 in court to see the judge for consideration under the law for dismissal an
 d if dismissed a $20.00 administrative fee will be paid to the court clerk
 . If you have been charged with failure to provide proof of financial resp
 onsibility and you did have insurance on the day you received the citation
 \, show the proof to the court. If it is correct\, that case will be dismi
 ssed. There is no administrative fee for financial responsibility.\n&nbsp\
 ;\nPlease see&nbsp\;Municipal Court information here\, or&nbsp\;search onl
 ine here https://bunkerhilltx.gov/event/1807-municipal-court-morning-docke
 t
DTSTART:20210121T160000Z
DTEND:20210121T180000Z
LOCATION:City of Bunker Hill Village City Hall (11977 Memorial Drive\, Hous
 ton\, TX 77024\, USA)
SUMMARY:Municipal Court – Morning Docket
URL:https://bunkerhilltx.gov/event/1807-municipal-court-morning-docket
END:VEVENT
END:VCALENDAR
