BEGIN:VCALENDAR
VERSION:2.0
PRODID:-//https://bunkerhilltx.gov///NONSGML kigkonsult.se iCalcreator 2.10.15//
METHOD:PUBLISH
BEGIN:VEVENT
UID:20260421T124957UTC-1987WeDplo@https://bunkerhilltx.gov/
DTSTAMP:20260421T124957Z
DESCRIPTION:The City Council holds its regular meetings on the third Tuesda
 y of every month at 5:30 p.m\, unless otherwise noted. The agendas are pos
 ted on the website 72 hours prior to the meetings. Minutes of the meetings
  are also posted on the website after approval by the City Council.\nCity 
 Council Meetings are estimated to be approximately 2 hours\; however\, act
 ual time for a specific item and length of the meeting is based on the ind
 ividual agenda\, public comments\, and discussion time needed.\nTHE CITY C
 OUNCIL MEETING ON MARCH 16\, 2021 WAS  RESCHEDULED FOR TUESDAY\, MARCH 23\
 , 2021 AT 5:30 P.M.\nNOTICE OF MEETING BY TELEPHONE AND VIDEO CONFERENCE:
 \nIn accordance with order of the Office of the Governor issued March 16\,
  2020 and later extended\, this meeting may be conducted by video conferen
 ce in order to advance the public health goal of limiting face-to-face mee
 tings (also called “social distancing”) to slow the spread of the Coronavi
 rus (COVID-19).&nbsp\; The City strongly encourages members of the public 
 to attend by video conference as described below rather than in person (un
 less no other option is possible). &nbsp\;Please note that attendance in p
 erson requires compliance with the COVID - 19 guidelines which include wea
 ring a mask\, social distancing\, and not entering the meeting if experien
 cing symptoms.\nMeeting Agenda\nAgenda Packet:&nbsp\;&nbsp\;\nProclamation
  - National Public Safety Telecommunicators Week\nItems&nbsp\;IV- XIV\nIte
 m XV - Consent Agenda:\nDecember 2020 Financials\nJanuary 2021 Financials
 \nFebruary 2021 Financials\nConsent Agenda - Items D - V\n&nbsp\;\nJoin Zo
 om Meeting\nhttps://zoom.us/j/94732676958?pwd=UXh2dmY4SHBVb3ZXakxsd3d2MHlK
 QT09\nMeeting ID: 947 3267 6958\nPasscode: 359239\nDial by your location\n
 &nbsp\;+1 346 248 7799 US (Houston)\nFind your local number: https://zoom.
 us/u/abFSfX2sT\n&nbsp\;The public will be permitted to offer public commen
 ts by video conference as provided by the agenda and as permitted by the p
 residing officer during the meeting.&nbsp\; A recording of the meeting wil
 l be made\, and will be available to the public in accordance with the Ope
 n Meetings Act upon written request. https://bunkerhilltx.gov/event/1802-c
 ity-council-meeting
DTSTART:20210323T223000Z
DTEND:20210324T003000Z
LOCATION:City of Bunker Hill Village City Hall (11977 Memorial Drive\, Hous
 ton\, TX 77024\, USA)
SUMMARY:City Council Meeting
URL:https://bunkerhilltx.gov/event/1802-city-council-meeting
END:VEVENT
END:VCALENDAR
