BEGIN:VCALENDAR
VERSION:2.0
PRODID:-//https://bunkerhilltx.gov///NONSGML kigkonsult.se iCalcreator 2.10.15//
METHOD:PUBLISH
BEGIN:VEVENT
UID:20260421T125908UTC-5290eouvCM@https://bunkerhilltx.gov/
DTSTAMP:20260421T125908Z
DESCRIPTION:NOTICE OF MEETING BY TELEPHONE AND VIDEO CONFERENCE:\nIn accord
 ance with Texas Government Code\, Sec. 551.127\, on a regular\, non-emerge
 ncy basis\, Councilmembers may attend and participate in a meeting remotel
 y by video conference.&nbsp\; Should such attendance transpire\, a quorum 
 of the Council will be physically present at the location noted above on t
 his agenda.\nCouncil Agenda&nbsp\;\nPlease note this Meeting will begin at
  5:00 with a Closed Executive Session\nAgenda Packet:&nbsp\;&nbsp\;\nItems
 &nbsp\;IV-XIV\nItem XV - Consent Agenda:\nItem A September 2021 Financials
 &nbsp\;\nItems B-GG\n&nbsp\;\nJoin Zoom Meeting\nhttps://us06web.zoom.us/j
 /86724418605?pwd=V1JxVEVJcXQxR3h5eE9lbzhUUjRZQT09\nMeeting ID: 867 2441 86
 05\nPasscode: 770309\nDial by your location\n+1 346 248 7799 US (Houston)
 \nMeeting ID: 867 2441 8605\nThe public will be permitted to offer public 
 comments by video conference as provided by the agenda and as permitted by
  the presiding officer during the meeting.&nbsp\; A recording of the meeti
 ng will be made\, and will be available to the public in accordance with t
 he Open Meetings Act upon written request.\n&nbsp\; https://bunkerhilltx.g
 ov/event/1800-city-council-meeting
DTSTART:20211019T220000Z
DTEND:20211020T000000Z
LOCATION:City of Bunker Hill Village City Hall (11977 Memorial Drive\, Hous
 ton\, TX 77024\, USA)
SUMMARY:City Council Meeting
URL:https://bunkerhilltx.gov/event/1800-city-council-meeting
END:VEVENT
END:VCALENDAR
