BEGIN:VCALENDAR
VERSION:2.0
PRODID:-//https://bunkerhilltx.gov///NONSGML kigkonsult.se iCalcreator 2.10.15//
METHOD:PUBLISH
BEGIN:VEVENT
UID:20260421T140610UTC-9811uW6Mnk@https://bunkerhilltx.gov/
DTSTAMP:20260421T140610Z
DESCRIPTION:The City Council holds its regular meetings on the third Tuesda
 y of every month at 5:30 p.m\, unless otherwise noted. The agendas are pos
 ted on the website 72 hours prior to the meetings. Minutes of the meetings
  are also posted on the website after approval by the City Council.\nCity 
 Council Meetings are estimated to be approximately 2 hours\; however\, act
 ual time for a specific item and length of the meeting is based on the ind
 ividual agenda\, public comments\, and discussion time needed.\nNOTICE OF 
 MEETING BY TELEPHONE AND VIDEO CONFERENCE:\nIn accordance with order of th
 e Office of the Governor issued March 16\, 2020 and later extended\, this 
 meeting may be conducted by video conference in order to advance the publi
 c health goal of limiting face-to-face meetings (also called “social dista
 ncing”) to slow the spread of the Coronavirus (COVID-19).&nbsp\; The City 
 encourages members of the public to attend by video conference.&nbsp\; If 
 attending in person\, masks are required.&nbsp\;\nMeeting Agenda\nAgenda P
 acket:&nbsp\;&nbsp\;\nItems&nbsp\;IV- XIV\nItem XV - Consent Agenda\n&nbsp
 \;\nJoin Zoom Meeting\nhttps://zoom.us/j/98126929807?pwd=bDVXWEZGbzR3ODRJT
 0swOXRrWjBMQT09 \nMeeting ID: 981 2692 9807\nPasscode: 044885\nDial by you
 r location\n&nbsp\;&nbsp\;&nbsp\;&nbsp\;&nbsp\;&nbsp\;&nbsp\; +1 346 248 7
 799 US (Houston)\nThe public will be permitted to offer public comments by
  video conference as provided by the agenda and as permitted by the presid
 ing officer during the meeting.&nbsp\; A recording of the meeting will be 
 made\, and will be available to the public in accordance with the Open Mee
 tings Act upon written request.\n&nbsp\; https://bunkerhilltx.gov/event/17
 95-city-council-meeting
DTSTART:20210420T223000Z
DTEND:20210421T003000Z
LOCATION:City of Bunker Hill Village City Hall (11977 Memorial Drive\, Hous
 ton\, TX 77024\, USA)
SUMMARY:City Council Meeting
URL:https://bunkerhilltx.gov/event/1795-city-council-meeting
END:VEVENT
END:VCALENDAR
