BEGIN:VCALENDAR
VERSION:2.0
PRODID:-//https://bunkerhilltx.gov///NONSGML kigkonsult.se iCalcreator 2.10.15//
METHOD:PUBLISH
BEGIN:VEVENT
UID:20260421T125733UTC-7025WhkXxz@https://bunkerhilltx.gov/
DTSTAMP:20260421T125733Z
DESCRIPTION:The City Council holds its regular meetings on the third Tuesda
 y of every month at 5:30 p.m\, unless otherwise noted. The agendas are pos
 ted on the website 72 hours prior to the meetings. Minutes of the meetings
  are also posted on the website after approval by the City Council.\nCity 
 Council Meetings are estimated to be approximately 2 hours\; however\, act
 ual time for a specific item and length of the meeting is based on the ind
 ividual agenda\, public comments\, and discussion time needed.\nNOTICE OF 
 MEETING BY TELEPHONE AND VIDEO CONFERENCE:\nIn accordance with order of th
 e Office of the Governor issued March 16\, 2020 and later extended\, this 
 meeting may be conducted by video conference in order to advance the publi
 c health goal of limiting face-to-face meetings (also called “social dista
 ncing”) to slow the spread of the Coronavirus (COVID-19).&nbsp\; The City 
 strongly encourages members of the public to attend by video conference as
  described below rather than in person (unless no other option is possible
 ). &nbsp\;Please note that attendance in person requires compliance with t
 he COVID - 19 guidelines which include wearing a mask\, social distancing\
 , and not entering the meeting if experiencing symptoms.\nMeeting Agenda\n
 Agenda Packet:\nItems&nbsp\;I - XV\nItem XVI - Consent Agenda\n&nbsp\;\nJo
 in Zoom Meeting\nhttps://zoom.us/j/94278005616?pwd=RXg1cDdveERwbXFES0owTU5
 6ckVMQT09\n&nbsp\;\nMeeting ID: 942 7800 5616\n&nbsp\;\nPasscode: 631297\n
 &nbsp\;\nDial by your location\n+1 346 248 7799 US (Houston)\n&nbsp\;The p
 ublic will be permitted to offer public comments by video conference as pr
 ovided by the agenda and as permitted by the presiding officer during the 
 meeting.&nbsp\; A recording of the meeting will be made\, and will be avai
 lable to the public in accordance with the Open Meetings Act upon written 
 request. https://bunkerhilltx.gov/event/1793-city-council-meeting
DTSTART:20210119T233000Z
DTEND:20210120T013000Z
LOCATION:City of Bunker Hill Village City Hall (11977 Memorial Drive\, Hous
 ton\, TX 77024\, USA)
SUMMARY:City Council Meeting
URL:https://bunkerhilltx.gov/event/1793-city-council-meeting
END:VEVENT
END:VCALENDAR
